BEGIN:VCALENDAR
VERSION:2.0
PRODID:-//Receivables Info - ECPv6.15.20//NONSGML v1.0//EN
CALSCALE:GREGORIAN
METHOD:PUBLISH
X-WR-CALNAME:Receivables Info
X-ORIGINAL-URL:https://receivablesinfo.com
X-WR-CALDESC:Events for Receivables Info
REFRESH-INTERVAL;VALUE=DURATION:PT1H
X-Robots-Tag:noindex
X-PUBLISHED-TTL:PT1H
BEGIN:VTIMEZONE
TZID:America/New_York
BEGIN:DAYLIGHT
TZOFFSETFROM:-0500
TZOFFSETTO:-0400
TZNAME:EDT
DTSTART:20220313T070000
END:DAYLIGHT
BEGIN:STANDARD
TZOFFSETFROM:-0400
TZOFFSETTO:-0500
TZNAME:EST
DTSTART:20221106T060000
END:STANDARD
BEGIN:DAYLIGHT
TZOFFSETFROM:-0500
TZOFFSETTO:-0400
TZNAME:EDT
DTSTART:20230312T070000
END:DAYLIGHT
BEGIN:STANDARD
TZOFFSETFROM:-0400
TZOFFSETTO:-0500
TZNAME:EST
DTSTART:20231105T060000
END:STANDARD
BEGIN:DAYLIGHT
TZOFFSETFROM:-0500
TZOFFSETTO:-0400
TZNAME:EDT
DTSTART:20240310T070000
END:DAYLIGHT
BEGIN:STANDARD
TZOFFSETFROM:-0400
TZOFFSETTO:-0500
TZNAME:EST
DTSTART:20241103T060000
END:STANDARD
END:VTIMEZONE
BEGIN:VEVENT
DTSTART;TZID=America/New_York:20231107T083000
DTEND;TZID=America/New_York:20231107T170000
DTSTAMP:20260422T062826
CREATED:20230901T182645Z
LAST-MODIFIED:20230901T191712Z
UID:10000068-1699345800-1699376400@receivablesinfo.com
SUMMARY:NCHER Fall Legal Meeting
DESCRIPTION:The National Council of Higher Education Resources (NCHER) is the nation’s oldest and largest higher education finance trade association. NCHER holds two major educational conferences each year which span across our diverse memberships’ needs and address their areas of expertise. NCHER also hosts legal meetings annually for attorneys and others with an interest in legal issues\, including items related to student lending\, finance\, consumer protection\, compliance\, and loan servicing and collections. \nVisit Event Page
URL:https://receivablesinfo.com/event/ncher-fall-legal-meeting/
LOCATION:New Orleans\, LA
CATEGORIES:Live Event
ATTACH;FMTTYPE=image/jpeg:https://receivablesinfo.com/wp-content/uploads/2023/09/2023.09-RI-NCHER-Fall-Legal-Meeting-AS-225433152.jpg
END:VEVENT
BEGIN:VEVENT
DTSTART;VALUE=DATE:20231107
DTEND;VALUE=DATE:20231109
DTSTAMP:20260422T062826
CREATED:20230817T163113Z
LAST-MODIFIED:20230904T151908Z
UID:10000029-1699315200-1699487999@receivablesinfo.com
SUMMARY:2023 Visionaries
DESCRIPTION:
URL:https://receivablesinfo.com/event/2023-visionaries/
LOCATION:Chicago\, IL
CATEGORIES:Live Event
ATTACH;FMTTYPE=image/jpeg:https://receivablesinfo.com/wp-content/uploads/2023/08/2023.08-RI-Visionaries-AS-169450088.jpg
END:VEVENT
BEGIN:VEVENT
DTSTART;VALUE=DATE:20231106
DTEND;VALUE=DATE:20231110
DTSTAMP:20260422T062826
CREATED:20230901T160050Z
LAST-MODIFIED:20230901T191718Z
UID:10000060-1699228800-1699574399@receivablesinfo.com
SUMMARY:RMAI 2023 Fall Networking & Baseball
DESCRIPTION:Join us for our 2023 Fall Networking & Baseball event in Denver\, CO! Connect with colleagues during pre-game functions\, and while watching the Chicago Cubs play the Colorado Rockies from a suite at Coors Field. Drawing in attendees from coast to coast\, this annual event is a unique opportunity to network and enjoy a baseball game. Fall Networking & Baseball is held each year in a different location. Register for – and sponsor – this year’s event in the Mile High City. \nVisit Event Page
URL:https://receivablesinfo.com/event/rmai-2023-fall-networking-baseball-2/
LOCATION:Denver\, CO
CATEGORIES:Live Event
ATTACH;FMTTYPE=image/jpeg:https://receivablesinfo.com/wp-content/uploads/2023/09/2023.09-RI-RMAI2023FallNetworkingBaseball-AS-320873812-1200x630-2.jpg
END:VEVENT
BEGIN:VEVENT
DTSTART;VALUE=DATE:20231106
DTEND;VALUE=DATE:20231110
DTSTAMP:20260422T062826
CREATED:20230901T152944Z
LAST-MODIFIED:20230901T191712Z
UID:10000050-1699228800-1699574399@receivablesinfo.com
SUMMARY:Used Car Week 2023
DESCRIPTION:Used Car Week is presented by Cherokee Media Group\, publisher of Auto Remarketing\, Auto Remarketing Canada\, SubPrime Auto Finance News/BHPH Report and Auto Fin Journal. Combining five different tracks\, Used Car Week (UCW) unites all corners of the used-car industry from remarketing to dealer-consignor relations and auto finance for four days to discuss current trends\, forecasting for the future and prepping for the road ahead. \nVisit Event Page
URL:https://receivablesinfo.com/event/used-car-week-2023/
LOCATION:Scottsdale\, AZ
CATEGORIES:Live Event
ATTACH;FMTTYPE=image/jpeg:https://receivablesinfo.com/wp-content/uploads/2023/09/2023.09-RI-UsedCarWeek2023-AS-589538665-1200x630-1.jpg
END:VEVENT
BEGIN:VEVENT
DTSTART;VALUE=DATE:20231105
DTEND;VALUE=DATE:20231109
DTSTAMP:20260422T062826
CREATED:20230817T162809Z
LAST-MODIFIED:20230904T151906Z
UID:10000028-1699142400-1699487999@receivablesinfo.com
SUMMARY:NASP 2023 Annual Conference
DESCRIPTION:NASP’s 25th Anniversary \nVisit Event Page
URL:https://receivablesinfo.com/event/nasp-2023-annual-conference/
LOCATION:Colorado Springs\, CO
CATEGORIES:Live Event
ATTACH;FMTTYPE=image/jpeg:https://receivablesinfo.com/wp-content/uploads/2023/08/2023.08-RI-NASP-Annual-Conference-AS-320873812.jpg
END:VEVENT
BEGIN:VEVENT
DTSTART;VALUE=DATE:20231101
DTEND;VALUE=DATE:20231104
DTSTAMP:20260422T062826
CREATED:20230901T180840Z
LAST-MODIFIED:20231010T151518Z
UID:10000081-1698796800-1699055999@receivablesinfo.com
SUMMARY:CCW Executive Exchange November 2023
DESCRIPTION:The CCW Executive Exchange is part of the world’s largest customer contact event series. This invitation-only event is built for today’s senior CX and Customer Contact Leaders as they aim to benchmark\, connect\, and identify solutions to critical business challenges in the most efficient and effective way possible. \nVisit Event Page
URL:https://receivablesinfo.com/event/ccw-executive-exchange-november-2023/
LOCATION:Sarasota\, FL
CATEGORIES:Live Event
ATTACH;FMTTYPE=image/jpeg:https://receivablesinfo.com/wp-content/uploads/2023/09/2023.09-RI-CCW-Executive-Exchange-November-2023-AS-282345197-1.jpg
END:VEVENT
BEGIN:VEVENT
DTSTART;VALUE=DATE:20231023
DTEND;VALUE=DATE:20231026
DTSTAMP:20260422T062826
CREATED:20231009T135617Z
LAST-MODIFIED:20231009T135800Z
UID:10000070-1698019200-1698278399@receivablesinfo.com
SUMMARY:American Association for Debt Resolution 2023 Fall Conference
DESCRIPTION:“Championing Responsible Debt Solutions for a Better Tomorrow” \nVisit Event Page
URL:https://receivablesinfo.com/event/american-association-for-debt-resolution-2023-fall-conference/
LOCATION:Coronado\, CA
CATEGORIES:Live Event
ATTACH;FMTTYPE=image/jpeg:https://receivablesinfo.com/wp-content/uploads/2023/10/2023.10-RI-American-Association-2023-AS-215879055.jpg
END:VEVENT
BEGIN:VEVENT
DTSTART;VALUE=DATE:20231023
DTEND;VALUE=DATE:20231026
DTSTAMP:20260422T062826
CREATED:20230901T182747Z
LAST-MODIFIED:20231010T151618Z
UID:10000082-1698019200-1698278399@receivablesinfo.com
SUMMARY:AADR 2023 Fall Conference
DESCRIPTION:The American Association for Debt Resolution (AADR)\, formerly the American Fair Credit Council (AFCC)\, is the national association of the debt resolution industry. The AADR’s mission is to educate consumers and policymakers about debt resolution and its benefits\, hold debt resolution companies to the highest industry standards\, and protect and expand access to accredited debt resolution services nationwide. AADR member companies must abide by the organization’s industry standards and be accredited biennially by an independent auditor. \nVisit Event Page
URL:https://receivablesinfo.com/event/aadr-2023-fall-conference/
LOCATION:Coronado\, CA
CATEGORIES:Live Event
ATTACH;FMTTYPE=image/jpeg:https://receivablesinfo.com/wp-content/uploads/2023/09/2023.09-RI-AADR-2023-Fall-Conference-AS-557932533.jpg
END:VEVENT
BEGIN:VEVENT
DTSTART;VALUE=DATE:20231022
DTEND;VALUE=DATE:20231026
DTSTAMP:20260422T062826
CREATED:20230901T182510Z
LAST-MODIFIED:20231009T153428Z
UID:10000067-1697932800-1698278399@receivablesinfo.com
SUMMARY:MGMA Leaders Conference
DESCRIPTION:The Leaders Conference is an inclusive community exploring the future of our industry\, with content curated for those in management and executive level positions\, and aspiring leaders. Join us October 22-25 in Nashville\, TN\, to learn\, grow\, and network with like-minded leaders eager to transform healthcare. Discover how strong leadership can optimize business operations and advance our industry. \nVisit Event Page
URL:https://receivablesinfo.com/event/mgma-leaders-conference/
LOCATION:Nashville\, TN
CATEGORIES:Live Event
ATTACH;FMTTYPE=image/jpeg:https://receivablesinfo.com/wp-content/uploads/2023/09/2023.09-RI-MGMA-Leaders-Conference-AS-179552781.jpg
END:VEVENT
BEGIN:VEVENT
DTSTART;VALUE=DATE:20231022
DTEND;VALUE=DATE:20231026
DTSTAMP:20260422T062826
CREATED:20230817T151622Z
LAST-MODIFIED:20230904T151902Z
UID:10000025-1697932800-1698278399@receivablesinfo.com
SUMMARY:Money 20/20 USA
DESCRIPTION:The ANI is where PFS professionals tackle challenging issues affecting the industry. A setting for delivering top-level edu-cation and strategy where ideas are generated to help you thrive in a time of great change. \nVisit Event Page
URL:https://receivablesinfo.com/event/money-20-20-usa/
CATEGORIES:Live Event
ATTACH;FMTTYPE=image/jpeg:https://receivablesinfo.com/wp-content/uploads/2023/08/2023.08-RI-Money-20-20-USA-AS-270400901.jpg
END:VEVENT
BEGIN:VEVENT
DTSTART;VALUE=DATE:20231019
DTEND;VALUE=DATE:20231022
DTSTAMP:20260422T062826
CREATED:20230901T153132Z
LAST-MODIFIED:20231010T151712Z
UID:10000083-1697673600-1697932799@receivablesinfo.com
SUMMARY:CCUCC 36th Annual Educational Conference
DESCRIPTION:This year’s presentation of the annual California Credit Union Collectors Council (CCUCC) conference is themed\, “Adapting to the Future.” Gather for networking\, education\, speakers\, and exhibitors. Take a look at our fantastic speaker line-up. \nVisit Event Page
URL:https://receivablesinfo.com/event/ccucc-36th-annual-educational-conference/
CATEGORIES:Live Event
ATTACH;FMTTYPE=image/jpeg:https://receivablesinfo.com/wp-content/uploads/2023/09/2023.09-RI-CCUCC36thAnnualEducationalConference-AS-395701369-.jpg
END:VEVENT
BEGIN:VEVENT
DTSTART;VALUE=DATE:20231018
DTEND;VALUE=DATE:20231020
DTSTAMP:20260422T062826
CREATED:20230901T154038Z
LAST-MODIFIED:20231010T151750Z
UID:10000084-1697587200-1697759999@receivablesinfo.com
SUMMARY:2023 NCBA Client Summit
DESCRIPTION:(This event is by invitation only.) At the request of numerous credit grantor clients\, NCBA is hosting a one-time Client Summit on October 18 and 19\, 2023\, at the Loews Hotel in downtown Atlanta. The following clients will be hosting closed meetings at the Summit: ARSI Bank of America Capital One Crown Asset Management InvestiNet JPMorgan Chase Bank Plaza Services\, LLC Security Credit Services\, LLC Spring Oaks Capital TRAKAmerica \nVisit Event Page
URL:https://receivablesinfo.com/event/2023-ncba-client-summit/
LOCATION:Atlanta\, GA
CATEGORIES:Live Event
ATTACH;FMTTYPE=image/jpeg:https://receivablesinfo.com/wp-content/uploads/2023/09/2023.09-RI-2023NCBAClientSummit-AS-69626957.-1200x630-1.jpg
END:VEVENT
BEGIN:VEVENT
DTSTART;VALUE=DATE:20231016
DTEND;VALUE=DATE:20231019
DTSTAMP:20260422T062826
CREATED:20230901T153256Z
LAST-MODIFIED:20231010T151831Z
UID:10000085-1697414400-1697673599@receivablesinfo.com
SUMMARY:2023 Annual Utilities Meter to Cash Conference
DESCRIPTION:This event covers the entire utility meter to cash cycle. It is an outstanding educational event specifically created for utility industry professionals and solution providers. Attendees learn from industry experts and share best practices designed to improve operational and financial performance. The Conference brings an unparalleled and personalized approach\, connecting individuals to meet\, learn\, network\, and develop business relationships. The AGA supports the event as an industry sponsor. \nVisit Event Page
URL:https://receivablesinfo.com/event/2023-annual-utilities-meter-to-cash-conference/
LOCATION:Indianapolis\, IN
CATEGORIES:Live Event
ATTACH;FMTTYPE=image/jpeg:https://receivablesinfo.com/wp-content/uploads/2023/09/2023.09-RI-2023AnnualUtilitiesMetertoCashConference-AS-181335662-1200x630-1.jpg
END:VEVENT
BEGIN:VEVENT
DTSTART;TZID=America/New_York:20231010T170000
DTEND;TZID=America/New_York:20231010T190000
DTSTAMP:20260422T062826
CREATED:20230901T155513Z
LAST-MODIFIED:20230901T191714Z
UID:10000057-1696957200-1696964400@receivablesinfo.com
SUMMARY:TMA & SFNET 2023 Carolinas/Atlanta Meet in the Middle
DESCRIPTION:Join the Atlanta and Carolinas Chapters of TMA and SFNET Meet in the Middle Up on the Roof Greenville SC October 10\, 2023 5PM-7PM \nVisit Event Page
URL:https://receivablesinfo.com/event/tma-sfnet-2023-carolinas-atlanta-meet-in-the-middle/
LOCATION:Greenville\, SC
CATEGORIES:Live Event
ATTACH;FMTTYPE=image/jpeg:https://receivablesinfo.com/wp-content/uploads/2023/09/2023.09-RI-TMASFNET2023CarolinasAtlanta-AS-454212303-1200x630-1.jpg
END:VEVENT
BEGIN:VEVENT
DTSTART;VALUE=DATE:20231010
DTEND;VALUE=DATE:20231013
DTSTAMP:20260422T062826
CREATED:20230817T150752Z
LAST-MODIFIED:20230904T151456Z
UID:10000024-1696896000-1697155199@receivablesinfo.com
SUMMARY:Annual National Institute
DESCRIPTION:The ANI is where PFS professionals tackle challenging issues affecting the industry. A setting for delivering top-level edu-cation and strategy where ideas are generated to help you thrive in a time of great change. \nVisit Event Page
URL:https://receivablesinfo.com/event/annual-national-institute/
LOCATION:Los Angeles\, CA
CATEGORIES:Live Event
ATTACH;FMTTYPE=image/jpeg:https://receivablesinfo.com/wp-content/uploads/2023/08/2023.08-RI-Annual-National-Institute-AS-302293188.jpg
END:VEVENT
BEGIN:VEVENT
DTSTART;VALUE=DATE:20231003
DTEND;VALUE=DATE:20231007
DTSTAMP:20260422T062827
CREATED:20230901T182114Z
LAST-MODIFIED:20230901T191715Z
UID:10000065-1696291200-1696636799@receivablesinfo.com
SUMMARY:NEFA 2023 Funding Symposium
DESCRIPTION:The National Equipment Finance Association (NEFA) is a national trade association comprised of professionals serving the equipment leasing and finance. Our member companies are diverse and include independent and bank-owned lessors and funding sources\, commercial finance brokers\, specialty lenders\, and various specialized service/product providers serving the needs of these equipment finance specialists.\nNEFA’s members are highly skilled in their fields and believe that working together to advance the equipment leasing and finance industry is highly important and best achieved by working collectively. \nVisit Event Page
URL:https://receivablesinfo.com/event/nefa-2023-funding-symposium/
LOCATION:San Antonio\, TX
CATEGORIES:Live Event
ATTACH;FMTTYPE=image/jpeg:https://receivablesinfo.com/wp-content/uploads/2023/09/2023.09-RI-NEFA-2023-Funding-Symposium-AS-131610603.jpg
END:VEVENT
BEGIN:VEVENT
DTSTART;VALUE=DATE:20231003
DTEND;VALUE=DATE:20231007
DTSTAMP:20260422T062827
CREATED:20230817T152653Z
LAST-MODIFIED:20230904T151858Z
UID:10000026-1696291200-1696636799@receivablesinfo.com
SUMMARY:The 2023 TMA Annual
DESCRIPTION:TMA is heading to San Francisco! Join TMA and save the dates for The 2023 TMA Annual taking place October 3-6\, at the Fairmont San Francisco in San Francisco\, California. Networking opportunities will take advantage of all that energetic San Francisco has to offer. Stay tuned and learn more at annual.turnaround.org. \nVisit Event Page
URL:https://receivablesinfo.com/event/the-2023-tma-annual/
LOCATION:San Francisco\, CA
CATEGORIES:Live Event
ATTACH;FMTTYPE=image/jpeg:https://receivablesinfo.com/wp-content/uploads/2023/08/2023.08-RI-TMA-Annual-AS-264880447.jpg
END:VEVENT
BEGIN:VEVENT
DTSTART;VALUE=DATE:20231002
DTEND;VALUE=DATE:20231005
DTSTAMP:20260422T062827
CREATED:20230113T190332Z
LAST-MODIFIED:20230424T210135Z
UID:10000003-1696204800-1696463999@receivablesinfo.com
SUMMARY:Lend360 Conference
DESCRIPTION:LEND360 is an annual summit for the leaders in online lending that explores fintech industry trends and new technologies impacting consumer lenders\, small business lenders\, service partners\, investors\, bank representatives\, and more. We will be hosting our 2023 event at the Hyatt Regency in Atlanta. Stay tuned for more updates! \nVisit Event Page
URL:https://receivablesinfo.com/event/lend360-conference/
LOCATION:Atlanta\, GA
CATEGORIES:Live Event
ATTACH;FMTTYPE=image/jpeg:https://receivablesinfo.com/wp-content/uploads/2022/10/RI-2023.10-Lend360-AS-277982510.jpg
END:VEVENT
BEGIN:VEVENT
DTSTART;VALUE=DATE:20231001
DTEND;VALUE=DATE:20231005
DTSTAMP:20260422T062827
CREATED:20230817T145932Z
LAST-MODIFIED:20230904T151847Z
UID:10000023-1696118400-1696463999@receivablesinfo.com
SUMMARY:2023 AFSA Annual Meeting
DESCRIPTION:The 2023 AFSA Annual Meeting is bringing attendees together to share how consumer credit is creating opportunities for our customers. \nVisit Event Page
URL:https://receivablesinfo.com/event/2023-afsa-annual-meeting/
LOCATION:Salt Lake City\, Utah
CATEGORIES:Live Event
ATTACH;FMTTYPE=image/jpeg:https://receivablesinfo.com/wp-content/uploads/2023/08/2023.08-RI-AFSA-Annual-Meeting-AS-336423748.jpg
END:VEVENT
BEGIN:VEVENT
DTSTART;VALUE=DATE:20230927
DTEND;VALUE=DATE:20230930
DTSTAMP:20260422T062827
CREATED:20230522T180415Z
LAST-MODIFIED:20240704T180006Z
UID:10000021-1695772800-1696031999@receivablesinfo.com
SUMMARY:Debt Connection Symposium & Expo
DESCRIPTION:Debt Connection Symposium & Expo (DCS) is headed back to Las Vegas\, September 27th – 29th at the Red Rock Casino Resort & Spa. Plan to network\, learn\, and connect with clients\, service providers\, product suppliers\, agencies\, and attorneys. DCS is geared for Financial Services\, Fintech\, Recovery\, Collections\, Debt Sales and Technology professionals\, combining distinct learning styles and experiences with more networking opportunities\, special events\, and the highest level of hospitality of any industry show. Visit our website to learn more about attending as an exhibitor or sponsor. We can’t wait to see you there! \nVisit Event Page
URL:https://receivablesinfo.com/event/debt-connection-symposium-expo/
LOCATION:Red Rock Casino Resort & Spa\, 11011 W Charleston Blvd\,\, Las Vegas\, NV\, 89135\, United States
CATEGORIES:Live Event
ATTACH;FMTTYPE=image/jpeg:https://receivablesinfo.com/wp-content/uploads/2023/05/2023.05-Debt-Collection-AS-270400901-1200x630-2.jpg
END:VEVENT
BEGIN:VEVENT
DTSTART;VALUE=DATE:20230926
DTEND;VALUE=DATE:20230927
DTSTAMP:20260422T062827
CREATED:20230817T144702Z
LAST-MODIFIED:20230823T143855Z
UID:10000022-1695686400-1695772799@receivablesinfo.com
SUMMARY:2023 NBSRA Annual Conference
DESCRIPTION:The 2023 NBSRA Conference is a stand-alone event\, and will take place the day before the 2023 Shed Builder Expo. Register below to secure your spot at this year’s conference. We will be announcing this year’s theme\, the agenda with speaker information\, and lodging details soon. \nVisit Event Page
URL:https://receivablesinfo.com/event/2023-nbsra-annual-conference/
LOCATION:Knoxville\, TN
CATEGORIES:Live Event
ATTACH;FMTTYPE=image/jpeg:https://receivablesinfo.com/wp-content/uploads/2023/08/2023.08-RI-NBSRA-Annual-Conference-AS-129239151.jpg
END:VEVENT
BEGIN:VEVENT
DTSTART;VALUE=DATE:20230919
DTEND;VALUE=DATE:20230921
DTSTAMP:20260422T062827
CREATED:20230901T181302Z
LAST-MODIFIED:20231010T152044Z
UID:10000086-1695081600-1695254399@receivablesinfo.com
SUMMARY:NIADA National Policy Conference
DESCRIPTION:The National Policy Conference (NPC) is the premier event for members of the used auto industry to represent the industry before policymakers and regulators in Washington D.C. \nVisit Event Page
URL:https://receivablesinfo.com/event/niada-national-policy-conference/
LOCATION:Washington D.C.
CATEGORIES:Live Event
ATTACH;FMTTYPE=image/jpeg:https://receivablesinfo.com/wp-content/uploads/2023/09/2023.09-RI-NIADA-National-Policy-Conference-AS-81752567.jpg
END:VEVENT
BEGIN:VEVENT
DTSTART;VALUE=DATE:20230917
DTEND;VALUE=DATE:20230920
DTSTAMP:20260422T062827
CREATED:20230901T153403Z
LAST-MODIFIED:20231010T152127Z
UID:10000087-1694908800-1695167999@receivablesinfo.com
SUMMARY:2023 Annual Northeast Debt Collection Conference
DESCRIPTION:Join the New York\, New England\, New Jersey and Mid-Atlantic Units of ACA International in Atlantic City for a multi-unit\, thirteen-state collection Expo! Attendees will include ACA members located in: Delaware Maryland New Jersey New York Pennsylvania District of Columbia Connecticut Maine New Hampshire Massachusetts Rhode Island Vermont West Virginia \nVisit Event Page
URL:https://receivablesinfo.com/event/2023-annual-northeast-debt-collection-conference/
LOCATION:Atlantic City\, NJ
CATEGORIES:Live Event
ATTACH;FMTTYPE=image/jpeg:https://receivablesinfo.com/wp-content/uploads/2023/09/2023.09-RI-2023AnnualUtilitiesMetertoCashConference-AS-181335662-1200x630-2.jpg
END:VEVENT
BEGIN:VEVENT
DTSTART;TZID=America/New_York:20230914T180000
DTEND;TZID=America/New_York:20230914T210000
DTSTAMP:20260422T062827
CREATED:20230901T155330Z
LAST-MODIFIED:20230904T152101Z
UID:10000056-1694714400-1694725200@receivablesinfo.com
SUMMARY:TMA Northeast Fall Kickoff
DESCRIPTION:Please join TMA Northeast for our Fall Kickoff Event! The event will feature guest speaker Danny Bachman. Dr. Bachman is a senior manager with Deloitte Services LP\, in charge of US economic forecasting for Deloitte’s Eminence and Strategy functions\, and is responsible for Deloitte’s quarterly U.S. Economic Forecast. Prior to coming to Deloitte\, Dr. Bachman worked as a forecaster\, economic analyst\, and model expert at the US Commerce Department and for a major economic consulting company. He also taught economics at Temple University. Dr. Bachman’s first professional job was at Israel’s Ministry of Finance. After the presentation\, we will hold a networking reception with cocktails and appetizers! \nVisit Event Page
URL:https://receivablesinfo.com/event/tma-northeast-fall-kickoff/
LOCATION:Boston\, MA
CATEGORIES:Live Event
ATTACH;FMTTYPE=image/jpeg:https://receivablesinfo.com/wp-content/uploads/2023/09/2023.09-RI-TMASoCalFallKickoff-AS-490540095-1200x630-1.jpg
END:VEVENT
BEGIN:VEVENT
DTSTART;TZID=America/New_York:20230914T180000
DTEND;TZID=America/New_York:20230914T210000
DTSTAMP:20260422T062827
CREATED:20230901T155156Z
LAST-MODIFIED:20230901T191717Z
UID:10000055-1694714400-1694725200@receivablesinfo.com
SUMMARY:TMA SoCal Fall Kickoff
DESCRIPTION:TMA SoCal Fall Kick-off! A Crowd Favorite TopGolf Join your colleagues for our 2nd annual TopGolf Event. 6:00PM – 9:00 PM *If you are a NG\, join your fellow NG colleagues at 5:00PM for our Kick-Off Pregame \nVisit Event Page
URL:https://receivablesinfo.com/event/tma-socal-fall-kickoff/
LOCATION:El Segunda\, CA
CATEGORIES:Live Event
ATTACH;FMTTYPE=image/jpeg:https://receivablesinfo.com/wp-content/uploads/2023/09/2023.09-RI-TMASoCalFallKickoff-AS-490540095-1200x630-2.jpg
END:VEVENT
BEGIN:VEVENT
DTSTART;TZID=America/New_York:20230914T170000
DTEND;TZID=America/New_York:20230914T200000
DTSTAMP:20260422T062827
CREATED:20230901T154959Z
LAST-MODIFIED:20230905T172719Z
UID:10000054-1694710800-1694721600@receivablesinfo.com
SUMMARY:TMA Capital Marketplace 2024
DESCRIPTION:The TMA Chicago/Midwest Chapter is proud to host the 2nd Annual Capital Marketplace Event on September 14\, 2023 at RPM Events. The event will feature premier local and national capital providers\, investors\, private equity\, direct lending and distressed debt firms who will showcase their interests and capabilities via introductions and discussions. These firms will prove central to driving deals\, business\, and opportunity throughout the turnaround community. Don’t miss this event\, register today. \nVisit Event Page
URL:https://receivablesinfo.com/event/tma-capital-marketplace-2024/
LOCATION:Chicago\, IL
CATEGORIES:Live Event
ATTACH;FMTTYPE=image/jpeg:https://receivablesinfo.com/wp-content/uploads/2023/09/2023.08-RI-TMACapitalMarketplace2024-AS-299811916-1200x630-1.jpg
END:VEVENT
BEGIN:VEVENT
DTSTART;VALUE=DATE:20230801
DTEND;VALUE=DATE:20230804
DTSTAMP:20260422T062827
CREATED:20230313T145057Z
LAST-MODIFIED:20230313T184021Z
UID:10000019-1690848000-1691107199@receivablesinfo.com
SUMMARY:RMAI Executive Summit
DESCRIPTION:Dubbed the best networking event all year\, the RMAI Executive Summit is a place to network and grow relationships with receivables organizations across the country. With an annual golf outing\, fireside chats\, and over a dozen educational courses over the course of three days\, the RMAI Executive Summit is the perfect place to grow your business. \nVisit Event Page
URL:https://receivablesinfo.com/event/rmai-executive-summit-2/
LOCATION:Monterey Plaza Hotel and Spa\, 400 Cannery Row\, Monterey\, CA 93940\, United States\, Monterey\, CA\, 93940\, United States
CATEGORIES:Live Event
ATTACH;FMTTYPE=image/jpeg:https://receivablesinfo.com/wp-content/uploads/2023/03/RI-2023-AS-351376501-V2-1200X630.jpg
END:VEVENT
BEGIN:VEVENT
DTSTART;VALUE=DATE:20230726
DTEND;VALUE=DATE:20230729
DTSTAMP:20260422T062827
CREATED:20230113T191032Z
LAST-MODIFIED:20230113T191032Z
UID:10000004-1690329600-1690588799@receivablesinfo.com
SUMMARY:ACA Annual Convention & Expo
DESCRIPTION:ACA's flagship event featuring a fabulous lineup of inspiring keynotes on the main stage\, as well as industry innovators\, wayfinders\, and experts who share business operation tips and insights in education sessions. It is our largest event of the year\, which also includes fun networking opportunities and social gatherings. \nVisit Event Page
URL:https://receivablesinfo.com/event/aca-annual-convention-expo-2/
LOCATION:Hilton Chicago\, 198 E Delaware Pl\, Chicago\, IL 60611\, United States\, Chicago\, IL\, IL\, United States
CATEGORIES:Live Event
ATTACH;FMTTYPE=image/jpeg:https://receivablesinfo.com/wp-content/uploads/2022/08/ACA-Annual-Convention-Expo.jpg
END:VEVENT
BEGIN:VEVENT
DTSTART;TZID=America/New_York:20230711T080000
DTEND;TZID=America/New_York:20230713T170000
DTSTAMP:20260422T062827
CREATED:20230818T162124Z
LAST-MODIFIED:20230823T143927Z
UID:10000046-1689062400-1689267600@receivablesinfo.com
SUMMARY:CX Trends\, Challenges\, and Opportunities
DESCRIPTION:In 2023 there is no shortage of opportunity in the CX space. With a focus on digital and a need for innovation\, brands are making major strides in delivering more exceptional\, seamless and high quality experiences for customers. But these haven’t come easy — brands continue to struggle to meet customer demands as stakes progressively become higher.
URL:https://receivablesinfo.com/event/cx-trends-challenges-and-opportunities/
LOCATION:Online
CATEGORIES:Live Event
ATTACH;FMTTYPE=image/jpeg:https://receivablesinfo.com/wp-content/uploads/2023/08/2023-08-CCW-AS-252296116-1200X630.jpg
END:VEVENT
BEGIN:VEVENT
DTSTART;VALUE=DATE:20230625
DTEND;VALUE=DATE:20230629
DTSTAMP:20260422T062827
CREATED:20230113T191306Z
LAST-MODIFIED:20230425T175411Z
UID:10000005-1687651200-1687996799@receivablesinfo.com
SUMMARY:HFMA Annual Conference
DESCRIPTION:The need for change is getting louder. Join us for the HFMA Annual Conference 2023 in Music City as we take the Cost Effectiveness of Health to the next level.\n\nVisit Event Page
URL:https://receivablesinfo.com/event/hfma-annual-conference-2/
LOCATION:Gaylord Opryland\, Nashville\, TN
CATEGORIES:Live Event
ATTACH;FMTTYPE=image/jpeg:https://receivablesinfo.com/wp-content/uploads/2022/08/HFMA-Annual-Conference.jpg
END:VEVENT
END:VCALENDAR