BEGIN:VCALENDAR
VERSION:2.0
PRODID:-//Receivables Info - ECPv6.15.20//NONSGML v1.0//EN
CALSCALE:GREGORIAN
METHOD:PUBLISH
X-ORIGINAL-URL:https://receivablesinfo.com
X-WR-CALDESC:Events for Receivables Info
REFRESH-INTERVAL;VALUE=DURATION:PT1H
X-Robots-Tag:noindex
X-PUBLISHED-TTL:PT1H
BEGIN:VTIMEZONE
TZID:America/New_York
BEGIN:DAYLIGHT
TZOFFSETFROM:-0500
TZOFFSETTO:-0400
TZNAME:EDT
DTSTART:20210314T070000
END:DAYLIGHT
BEGIN:STANDARD
TZOFFSETFROM:-0400
TZOFFSETTO:-0500
TZNAME:EST
DTSTART:20211107T060000
END:STANDARD
BEGIN:DAYLIGHT
TZOFFSETFROM:-0500
TZOFFSETTO:-0400
TZNAME:EDT
DTSTART:20220313T070000
END:DAYLIGHT
BEGIN:STANDARD
TZOFFSETFROM:-0400
TZOFFSETTO:-0500
TZNAME:EST
DTSTART:20221106T060000
END:STANDARD
BEGIN:DAYLIGHT
TZOFFSETFROM:-0500
TZOFFSETTO:-0400
TZNAME:EDT
DTSTART:20230312T070000
END:DAYLIGHT
BEGIN:STANDARD
TZOFFSETFROM:-0400
TZOFFSETTO:-0500
TZNAME:EST
DTSTART:20231105T060000
END:STANDARD
BEGIN:DAYLIGHT
TZOFFSETFROM:-0500
TZOFFSETTO:-0400
TZNAME:EDT
DTSTART:20240310T070000
END:DAYLIGHT
BEGIN:STANDARD
TZOFFSETFROM:-0400
TZOFFSETTO:-0500
TZNAME:EST
DTSTART:20241103T060000
END:STANDARD
END:VTIMEZONE
BEGIN:VTIMEZONE
TZID:UTC
BEGIN:STANDARD
TZOFFSETFROM:+0000
TZOFFSETTO:+0000
TZNAME:UTC
DTSTART:20210101T000000
END:STANDARD
END:VTIMEZONE
BEGIN:VEVENT
DTSTART;VALUE=DATE:20230624
DTEND;VALUE=DATE:20230628
DTSTAMP:20260424T062730
CREATED:20230901T182240Z
LAST-MODIFIED:20230901T191718Z
UID:10000066-1687564800-1687910399@receivablesinfo.com
SUMMARY:HFMA Annual Conference
DESCRIPTION:The Healthcare Financial Management Association (HFMA) helps its members—both individuals and organizations—achieve optimal performance by providing the practical tools and solutions\, education\, industry analyses\, and strategic guidance needed to address the many challenges that exist within the US healthcare system.\nThe diverse HFMA community has more than 103\,000 members\, including healthcare finance leaders and professionals from hospitals and health systems\, provider organizations\, physician practices\, business partners and payer markets. \nVisit Event Page
URL:https://receivablesinfo.com/event/hfma-annual-conference-3/
CATEGORIES:Live Event
ATTACH;FMTTYPE=image/jpeg:https://receivablesinfo.com/wp-content/uploads/2023/09/2023.09-RI-HFMA-Annual-Conference-AS-287179504.jpg
END:VEVENT
BEGIN:VEVENT
DTSTART;TZID=America/New_York:20230619T080000
DTEND;TZID=America/New_York:20230622T170000
DTSTAMP:20260424T062730
CREATED:20230818T155841Z
LAST-MODIFIED:20230823T144238Z
UID:10000042-1687161600-1687453200@receivablesinfo.com
SUMMARY:NIADA Accelerate 2023
DESCRIPTION:Retail\, BHPH and LHPH Dealers can leverage solutions for financing\, operations\, legal\, regulatory updates\, employee hiring\, retention and training. \nVisit Event Page
URL:https://receivablesinfo.com/event/niada-accelerate-2023/
CATEGORIES:Live Event
ATTACH;FMTTYPE=image/jpeg:https://receivablesinfo.com/wp-content/uploads/2023/08/RI-2023.08-NIADA-AS-238449334-1200x630-1.jpg
END:VEVENT
BEGIN:VEVENT
DTSTART;TZID=America/New_York:20230606T080000
DTEND;TZID=America/New_York:20230608T170000
DTSTAMP:20260424T062730
CREATED:20230818T161610Z
LAST-MODIFIED:20230823T144453Z
UID:10000045-1686038400-1686243600@receivablesinfo.com
SUMMARY:2023 MGMA Summit: Moving Healthcare Forward
DESCRIPTION:Join us June 6-8\, 2023\, for a robust and convenient learning experience featuring education from industry leaders covering a wide variety of challenges facing medical practices today. By attending this event\, you will develop your skills and set yourself apart as the professional that your organization depends on to move healthcare forward. \nVisit Event Page
URL:https://receivablesinfo.com/event/2023-mgma-summit-moving-healthcare-forward/
CATEGORIES:Live Event
ATTACH;FMTTYPE=image/jpeg:https://receivablesinfo.com/wp-content/uploads/2023/08/RI-2023.06-MGMA-AS-343017264-1200x630-1.jpg
END:VEVENT
BEGIN:VEVENT
DTSTART;TZID=America/New_York:20230606T080000
DTEND;TZID=America/New_York:20230608T170000
DTSTAMP:20260424T062730
CREATED:20230818T161053Z
LAST-MODIFIED:20230823T144506Z
UID:10000044-1686038400-1686243600@receivablesinfo.com
SUMMARY:Generative AI and Chatbots for Customer Contact
DESCRIPTION:Nearly all customer contact leaders are dealing with these challenges\, and with customer expectations rising at the same time the economy weakens\, solving them seems as daunting as ever. But a solution does exist\, and it’s known as generative AI. That is why CCW Digital is proud to present our complimentary Generative AI & Chatbots for Customer Contact online summit. \nVisit Event Page
URL:https://receivablesinfo.com/event/generative-ai-and-chatbots-for-customer-contact/
LOCATION:Online
CATEGORIES:Live Event
ATTACH;FMTTYPE=image/jpeg:https://receivablesinfo.com/wp-content/uploads/2023/08/2023-08-CCW-AS-591956343-1200X630.jpg
END:VEVENT
BEGIN:VEVENT
DTSTART;VALUE=DATE:20230605
DTEND;VALUE=DATE:20230606
DTSTAMP:20260424T062730
CREATED:20230113T191824Z
LAST-MODIFIED:20230113T191824Z
UID:10000007-1685923200-1686009599@receivablesinfo.com
SUMMARY:NCHER Annual Conference
DESCRIPTION:Visit Event Page
URL:https://receivablesinfo.com/event/ncher-annual-conference-2/
LOCATION:Hilton Fort Launderdale\, Fort Launderdale\, FL
CATEGORIES:Live Event
ATTACH;FMTTYPE=image/jpeg:https://receivablesinfo.com/wp-content/uploads/2022/08/NCHER-Annual-Conference.jpg
END:VEVENT
BEGIN:VEVENT
DTSTART;TZID=America/New_York:20230523T080000
DTEND;TZID=America/New_York:20230525T170000
DTSTAMP:20260424T062730
CREATED:20230818T144023Z
LAST-MODIFIED:20230823T144521Z
UID:10000039-1684828800-1685034000@receivablesinfo.com
SUMMARY:FinovateSpring
DESCRIPTION:See cutting-edge fintech that financial institutions can deploy now. \nVisit Event Page
URL:https://receivablesinfo.com/event/finovatespring-2/
LOCATION:San Francisco\, CA
CATEGORIES:Live Event
ATTACH;FMTTYPE=image/jpeg:https://receivablesinfo.com/wp-content/uploads/2023/08/RI-2023.08-InformaConnect-AS-600605178-1200x630-1.jpg
END:VEVENT
BEGIN:VEVENT
DTSTART;TZID=America/New_York:20230523T080000
DTEND;TZID=America/New_York:20230524T170000
DTSTAMP:20260424T062730
CREATED:20230818T142249Z
LAST-MODIFIED:20230823T145323Z
UID:10000037-1684828800-1684947600@receivablesinfo.com
SUMMARY:2023 AFSA Spring Committee Meetings
DESCRIPTION:Join AFSA and your colleagues in the Big Easy for content-rich\, fast-paced committee meetings. \nVisit Event Page
URL:https://receivablesinfo.com/event/2023-afsa-spring-committee-meetings/
LOCATION:New Orleans\, LA
CATEGORIES:Live Event
ATTACH;FMTTYPE=image/jpeg:https://receivablesinfo.com/wp-content/uploads/2023/08/RI-2023.08-AFSA-AS-225433152-1200x630-1.jpg
END:VEVENT
BEGIN:VEVENT
DTSTART;TZID=America/New_York:20230516T080000
DTEND;TZID=America/New_York:20230518T170000
DTSTAMP:20260424T062730
CREATED:20230818T141358Z
LAST-MODIFIED:20230823T145651Z
UID:10000036-1684224000-1684429200@receivablesinfo.com
SUMMARY:LendSuite Conference
DESCRIPTION:
URL:https://receivablesinfo.com/event/lendsuite-conference/
LOCATION:Naples\, FL
CATEGORIES:Live Event
ATTACH;FMTTYPE=image/jpeg:https://receivablesinfo.com/wp-content/uploads/2023/08/RI-2023.08-LendConnect-AS-276896547-1200x630-1.jpg
END:VEVENT
BEGIN:VEVENT
DTSTART;TZID=America/New_York:20230515T080000
DTEND;TZID=America/New_York:20230517T170000
DTSTAMP:20260424T062730
CREATED:20230818T140538Z
LAST-MODIFIED:20230823T145658Z
UID:10000035-1684137600-1684342800@receivablesinfo.com
SUMMARY:2023 Washington Insights Fly-In
DESCRIPTION:Be at the center of the action and latest news as we engage with regulators and key lawmakers face-to-face. Activity in Washington\, D.C.\, stands to have a major impact on our ability to operate and provide employment. This year\, we are excited to get members back into the Capitol to advocate for our industry’s latest pressing issues. \nVisit Event Page
URL:https://receivablesinfo.com/event/2023-washington-insights-fly-in/
LOCATION:Washington D.C.
CATEGORIES:Live Event
ATTACH;FMTTYPE=image/jpeg:https://receivablesinfo.com/wp-content/uploads/2023/08/RI-2023.08-ACA-AS-353433164-1200x630-1.jpg
END:VEVENT
BEGIN:VEVENT
DTSTART;VALUE=DATE:20230510
DTEND;VALUE=DATE:20230513
DTSTAMP:20260424T062730
CREATED:20230313T145002Z
LAST-MODIFIED:20230424T173504Z
UID:10000018-1683676800-1683935999@receivablesinfo.com
SUMMARY:Collection and Recovery Solutions 2023
DESCRIPTION:This content rich educational conference gives the techniques\, strategies and resources for maximizing collection and recovery outcomes. Our goal is to enrich the intensity of the conference for the exhibitor\, attendee and sponsor alike with an unparalleled learning experience. This is an exclusive gathering of industry professionals like none other! \nVisit Event Page
URL:https://receivablesinfo.com/event/collection-and-recovery-solutions-2023/
LOCATION:Four Seasons Hotel\, 3960 S Las Vegas Blvd\, Las Vegas\, NV 89119\, United States\, Las Vegas\, NV\, 89119\, United States
CATEGORIES:Live Event
ATTACH;FMTTYPE=image/jpeg:https://receivablesinfo.com/wp-content/uploads/2023/03/RI-2023.05-CRS2023-1200X630-AS-27040090-V2.jpg
END:VEVENT
BEGIN:VEVENT
DTSTART;VALUE=DATE:20230510
DTEND;VALUE=DATE:20230513
DTSTAMP:20260424T062730
CREATED:20230113T192214Z
LAST-MODIFIED:20230313T184209Z
UID:10000008-1683676800-1683935999@receivablesinfo.com
SUMMARY:CRS 2023
DESCRIPTION:The Collection and Recovery Solutions events began in 2002\, when creditors specifically requested an event for senior level collection executives\, where they could learn about compliance and collections\, effectiveness and efficiencies\, in an environment where they were not inundated by salespeople and vendors. \nTo answer that\, we created this invitation-only event for creditors. We limit the sponsors to those who are referred by creditors in attendance. We have a small exhibit area\, with the latest in innovative and progressive companies in attendance. We encourage the right mix of sponsors\, and limit their attendance. \nOur goal\, is more creditors in attendance than exhibitors and sponsors—more learning\, more meetings with peers\, and the right mix of product and service providers. We work hard to bring you the finest speakers—whether they are from the regulatory\, compliance and enforcement perspective\, or from the operational side of the business. \nVisit Event Page
URL:https://receivablesinfo.com/event/crs-2023/
LOCATION:Four Seasons\, Las Vegas\, Las Vegas\, NV
CATEGORIES:Live Event
ATTACH;FMTTYPE=image/jpeg:https://receivablesinfo.com/wp-content/uploads/2023/03/RI-2023.05-CRS2023-1200X630-AS-27040090-V2.jpg
END:VEVENT
BEGIN:VEVENT
DTSTART;VALUE=DATE:20230510
DTEND;VALUE=DATE:20230512
DTSTAMP:20260424T062730
CREATED:20230113T192457Z
LAST-MODIFIED:20230424T204025Z
UID:10000009-1683676800-1683849599@receivablesinfo.com
SUMMARY:Fintech Nexus USA 2023
DESCRIPTION:Join the LARGEST fintech event in the financial capital of the world! \nVisit Event Page
URL:https://receivablesinfo.com/event/fintech-nexus-usa-2023/
LOCATION:Javits Center\, NYC\, 429 11th Ave\, New York\, NY 10001\, United States\, New York\, NY\, 10001\, United States
CATEGORIES:Live Event
ATTACH;FMTTYPE=image/jpeg:https://receivablesinfo.com/wp-content/uploads/2022/10/RI-2023.05-FintechNexus-AS-243925107-2.jpg
END:VEVENT
BEGIN:VEVENT
DTSTART;TZID=America/New_York:20230509T080000
DTEND;TZID=America/New_York:20230510T170000
DTSTAMP:20260424T062730
CREATED:20230818T155416Z
LAST-MODIFIED:20230823T145707Z
UID:10000041-1683619200-1683738000@receivablesinfo.com
SUMMARY:CCW Las Vegas Presents: Customer Contact Industry Review
DESCRIPTION:Celebrate our 25th anniversary of CCW Las Vegas\, virtually! The CCW Digital team is bringing the excitement for the number one customer contact event series online. Sharing insights from brands like Wayfair\, Charles Schwab\, Chewy and Hello Fresh\, this event will cover the top priorities of CX leaders today. \nVisit Event Page
URL:https://receivablesinfo.com/event/ccw-las-vegas-presents-customer-contact-industry-review/
LOCATION:Online
CATEGORIES:Live Event
ATTACH;FMTTYPE=image/jpeg:https://receivablesinfo.com/wp-content/uploads/2023/08/RI-2023.08-CCW-AS-370322824-1200x630-1.jpg
END:VEVENT
BEGIN:VEVENT
DTSTART;TZID=America/New_York:20230508T080000
DTEND;TZID=America/New_York:20230510T170000
DTSTAMP:20260424T062730
CREATED:20230818T154851Z
LAST-MODIFIED:20230823T145715Z
UID:10000040-1683532800-1683738000@receivablesinfo.com
SUMMARY:2023 AFCC Spring Conference
DESCRIPTION:AFCC conferences are the debt resolution industry’s premier events for networking\, driving innovation and advocacy\, and sharing best practices.  \nVisit Event Page
URL:https://receivablesinfo.com/event/2023-afcc-spring-conference/
LOCATION:Orlando\, FL
CATEGORIES:Live Event
ATTACH;FMTTYPE=image/jpeg:https://receivablesinfo.com/wp-content/uploads/2023/08/RI-2023.08-AFCC-AS-519201253-1200x630-1.jpg
END:VEVENT
BEGIN:VEVENT
DTSTART;TZID=America/New_York:20230503T080000
DTEND;TZID=America/New_York:20230504T170000
DTSTAMP:20260424T062730
CREATED:20230818T143716Z
LAST-MODIFIED:20230823T145952Z
UID:10000038-1683100800-1683219600@receivablesinfo.com
SUMMARY:2023 Legislative Day
DESCRIPTION:Represent your facility\, your state and your industry at the one political event that directly impacts you\, your facility and your bottom-line; AAHAM Legislative Day. \nVisit Event Page
URL:https://receivablesinfo.com/event/2023-legislative-day/
LOCATION:Washington D.C.
CATEGORIES:Live Event
ATTACH;FMTTYPE=image/jpeg:https://receivablesinfo.com/wp-content/uploads/2023/08/RI-2023.08-AAHAM-AS-71272969-1200x630-1.jpg
END:VEVENT
BEGIN:VEVENT
DTSTART;VALUE=DATE:20230503
DTEND;VALUE=DATE:20230506
DTSTAMP:20260424T062730
CREATED:20230113T192727Z
LAST-MODIFIED:20230424T205923Z
UID:10000010-1683072000-1683331199@receivablesinfo.com
SUMMARY:2023 NCBA Connect Conference
DESCRIPTION:Join us in Denver for THE event for the Creditors Rights industry. The 2023 NCBA Connect Conference is an excellent opportunity to meet with creditors rights attorneys\, credit grantors\, and vendors in one location. In addition to exceptional educational sessions and CLE\, there will be Client Meetings\, Networking Events\, the NCBA Exhibit Hall\, and more! You won't want to miss this opportunity to meet and mingle in person. \nVisit Event Page
URL:https://receivablesinfo.com/event/2023-ncba-connect-conference/
LOCATION:Sheraton Denver Downtown Hotel\, 1500 Court Place Denver\, Denver\, CO\, 80202\, United States
CATEGORIES:Live Event
ATTACH;FMTTYPE=image/jpeg:https://receivablesinfo.com/wp-content/uploads/2023/01/RI-2023.05-NCBA-AS-452388363.jpg
END:VEVENT
BEGIN:VEVENT
DTSTART;VALUE=DATE:20230322
DTEND;VALUE=DATE:20230323
DTSTAMP:20260424T062730
CREATED:20230113T193021Z
LAST-MODIFIED:20230113T193021Z
UID:10000011-1679443200-1679529599@receivablesinfo.com
SUMMARY:ACA IGNITE
DESCRIPTION:ACA’s IGNITE conference provides the latest knowledge on how we can adapt\, transform\, and bring our businesses to the next level. Attendees get multiple opportunities to network and connect during the sessions and social events. \nVisit Event Page
URL:https://receivablesinfo.com/event/aca-ignite-2/
LOCATION:Caesars Palace\, Las Vegas\, NV\, United States
CATEGORIES:Live Event
ATTACH;FMTTYPE=image/jpeg:https://receivablesinfo.com/wp-content/uploads/2022/08/ACA-Ignite.jpg
END:VEVENT
BEGIN:VEVENT
DTSTART;VALUE=DATE:20230308
DTEND;VALUE=DATE:20230311
DTSTAMP:20260424T062730
CREATED:20230113T195804Z
LAST-MODIFIED:20230113T195804Z
UID:10000012-1678233600-1678492799@receivablesinfo.com
SUMMARY:HFMA Revenue Cycle Conference
DESCRIPTION:Visit Event Page
URL:https://receivablesinfo.com/event/hfma-revenue-cycle-conference-2/
LOCATION:Phoenix\, AZ
CATEGORIES:Live Event
ATTACH;FMTTYPE=image/jpeg:https://receivablesinfo.com/wp-content/uploads/2022/08/HFMA-Revenue-Cycle-Conference.jpg
END:VEVENT
BEGIN:VEVENT
DTSTART;VALUE=DATE:20230221
DTEND;VALUE=DATE:20230225
DTSTAMP:20260424T062730
CREATED:20230113T195948Z
LAST-MODIFIED:20230113T195948Z
UID:10000013-1676937600-1677283199@receivablesinfo.com
SUMMARY:ACA Committee of 100 Meeting
DESCRIPTION:Secure a competitive edge for your company\, drive breakthrough innovation\, and maximize team productivity. Through dynamic discussions at this invitation-only event\, led by ACA 2022-2023 President Courtney Reynaud\, you’ll learn from other top leaders in the industry to help you and your organization master complex challenges and capitalize on emerging opportunities. \nVisit Event Page
URL:https://receivablesinfo.com/event/aca-committee-of-100-meeting-2/
LOCATION:Ritz Carlton Laguna Niguel\, One Ritz Carlton Dr\, Dana Point\, CA 92629\, United States\, Dana Point\, CA\, CA\, 92629\, United States
CATEGORIES:Live Event
ATTACH;FMTTYPE=image/jpeg:https://receivablesinfo.com/wp-content/uploads/2022/08/ACA-Committee-of-100-Meeting.jpg
END:VEVENT
BEGIN:VEVENT
DTSTART;VALUE=DATE:20230206
DTEND;VALUE=DATE:20230210
DTSTAMP:20260424T062730
CREATED:20230113T200513Z
LAST-MODIFIED:20230113T200513Z
UID:10000015-1675641600-1675987199@receivablesinfo.com
SUMMARY:RMAI Annual Conference
DESCRIPTION:Join us in Las Vegas\, February 6-9\, for the 2023 RMAI Annual Conference. Registration opens October 3\, 2022. If you are in the receivables management industry\, this is the premier event for you and your team to kick off the new year. Debt buyers\, originating creditors\, collection agencies\, law firms\, brokers\, and affiliates gather for timely industry education\, in-person networking\, and business development prospects. \nVisit Event Page
URL:https://receivablesinfo.com/event/rmai-annual-conference-2/
CATEGORIES:Live Event
ATTACH;FMTTYPE=image/jpeg:https://receivablesinfo.com/wp-content/uploads/2022/08/RMAI-Annual-Conference.jpg
END:VEVENT
BEGIN:VEVENT
DTSTART;VALUE=DATE:20230124
DTEND;VALUE=DATE:20230127
DTSTAMP:20260424T062731
CREATED:20230113T200710Z
LAST-MODIFIED:20230113T200710Z
UID:10000016-1674518400-1674777599@receivablesinfo.com
SUMMARY:AFSA Vehicle Finance Conference & Expo
DESCRIPTION:The 2023 Vehicle Finance Conference & Expo is the premier educational and networking opportunity for the vehicle finance industry. \nVisit Event Page
URL:https://receivablesinfo.com/event/afsa-vehicle-finance-conference-expo/
LOCATION:Hilton Anatole\, Dallas\, TX
CATEGORIES:Live Event
ATTACH;FMTTYPE=image/jpeg:https://receivablesinfo.com/wp-content/uploads/2022/08/AFSA-Vehicle-Finance-Conference-Expo.jpg
END:VEVENT
BEGIN:VEVENT
DTSTART;VALUE=DATE:20230111
DTEND;VALUE=DATE:20230114
DTSTAMP:20260424T062731
CREATED:20230113T200850Z
LAST-MODIFIED:20230113T200850Z
UID:10000017-1673395200-1673654399@receivablesinfo.com
SUMMARY:National Creditors Bar Association 2023 Executive Experience
DESCRIPTION:Visit Event Page
URL:https://receivablesinfo.com/event/national-creditors-bar-association-2023-executive-experience-2/
LOCATION:Ojai Valley Inn\, 905 Country Club Rd\, Ojai\, CA 93023\, United States\, Ojai\, CA\, CA\, 93023\, United States
CATEGORIES:Live Event
ATTACH;FMTTYPE=image/jpeg:https://receivablesinfo.com/wp-content/uploads/2022/08/National-Creditors-Bar-Association-2023-Executive-Experience.jpg
END:VEVENT
BEGIN:VEVENT
DTSTART;TZID=America/New_York:20221106T000000
DTEND;TZID=America/New_York:20221109T235959
DTSTAMP:20260424T062731
CREATED:20211123T195708Z
LAST-MODIFIED:20250604T142649Z
UID:10000204-1667692800-1668038399@receivablesinfo.com
SUMMARY:National Association of Subrogation Professionals (NASP) 2022 Fall Conference
DESCRIPTION:Visit Event Page
URL:https://receivablesinfo.com/event/national-association-of-subrogation-professionals-nasp-2022-fall-conference/
LOCATION:J. W. Marriott\, 400 S Collier Blvd\, Marco Island\, FL 34145\, United States\, Marco Island\, FL\, 34145\, United States
CATEGORIES:Live Event
ATTACH;FMTTYPE=image/jpeg:https://receivablesinfo.com/wp-content/uploads/2021/10/National-Association-of-Subrogation-Professionals-NASP-2022-Fall-Conference.jpg
END:VEVENT
BEGIN:VEVENT
DTSTART;TZID=America/New_York:20221102T000000
DTEND;TZID=America/New_York:20221104T235959
DTSTAMP:20260424T062731
CREATED:20220509T212535Z
LAST-MODIFIED:20250604T125558Z
UID:10000202-1667347200-1667606399@receivablesinfo.com
SUMMARY:ACA Fall Forum 2022
DESCRIPTION:This event brings members together annually in Chicago and features education and solutions for members to advance in the industry. Education tracks include legal education\, health care\, and hot topics. \nVisit Event Page
URL:https://receivablesinfo.com/event/aca-fall-forum-2022/
LOCATION:Radisson Blu Aqua\, 221 N Columbus Dr\, Chicago\, IL 60601\, United States\, Chicago\, IL\, IL\, 60601\, United States
CATEGORIES:Live Event
ATTACH;FMTTYPE=image/jpeg:https://receivablesinfo.com/wp-content/uploads/2022/05/ACA-Fall-Forum-2022.jpg
END:VEVENT
BEGIN:VEVENT
DTSTART;TZID=America/New_York:20221102T000000
DTEND;TZID=America/New_York:20221104T235959
DTSTAMP:20260424T062731
CREATED:20220209T182416Z
LAST-MODIFIED:20250604T144608Z
UID:10000210-1667347200-1667606399@receivablesinfo.com
SUMMARY:NEFA 2022 Funding Symposium
DESCRIPTION:Visit Event Page
URL:https://receivablesinfo.com/event/nefa-2022-funding-symposium/
LOCATION:Omni Nashville Hotel\, 250 5th Ave S\, Nashville\, TN 37203\, United States\, Nashville\, TN\, 37203\, United States
CATEGORIES:Live Event
ATTACH;FMTTYPE=image/jpeg:https://receivablesinfo.com/wp-content/uploads/2022/02/NEFA-2022-Funding-Symposium.jpg
END:VEVENT
BEGIN:VEVENT
DTSTART;TZID=America/New_York:20221026T000000
DTEND;TZID=America/New_York:20221029T235959
DTSTAMP:20260424T062731
CREATED:20211027T191609Z
LAST-MODIFIED:20250603T201347Z
UID:10000162-1666742400-1667087999@receivablesinfo.com
SUMMARY:National Creditors Bar Association 2022 Fall Conference
DESCRIPTION:TBA- More Information coming soon \nVisit Event Page
URL:https://receivablesinfo.com/event/national-creditors-bar-association-2022-fall-conference/
LOCATION:JW Marriott Tampa Water Street\, 505 Water St\, Tampa\, FL 33602\, United States\, Tampa\, FL\, 33602\, United States
CATEGORIES:Live Event
ATTACH;FMTTYPE=image/jpeg:https://receivablesinfo.com/wp-content/uploads/2021/10/RI-2021.10-FeaturedEventImage-AS-395703739.jpg
END:VEVENT
BEGIN:VEVENT
DTSTART;TZID=America/New_York:20220926T000000
DTEND;TZID=America/New_York:20220928T235959
DTSTAMP:20260424T062731
CREATED:20220418T130815Z
LAST-MODIFIED:20250604T122926Z
UID:10000191-1664150400-1664409599@receivablesinfo.com
SUMMARY:2022 Florida Collectors Association Conference
DESCRIPTION:The 2022 Florida Collectors Association Conference will be held September 26-28\, 2022 at the Eau Palm Beach Resort & Spa. \nVisit Event Page
URL:https://receivablesinfo.com/event/2022-florida-collectors-association-conference/
LOCATION:Eau Palm Beach Resort & Spa\, Manalapan\, FL
CATEGORIES:Live Event
ATTACH;FMTTYPE=image/jpeg:https://receivablesinfo.com/wp-content/uploads/2022/04/2022-Florida-Collectors-Association-Conference.jpg
END:VEVENT
BEGIN:VEVENT
DTSTART;TZID=UTC:20220926T000000
DTEND;TZID=UTC:20220927T235959
DTSTAMP:20260424T062731
CREATED:20220414T201813Z
LAST-MODIFIED:20250604T122512Z
UID:10000188-1664150400-1664323199@receivablesinfo.com
SUMMARY:RMAI 2022 Regional Event: Washington D.C.
DESCRIPTION:Join us for this two day event in Washington D.C.\, focused on legislative advocacy and business networking. The program will include education\, networking and a Nationals baseball game. Sponsorship opportunities are available. \nVisit Event Page
URL:https://receivablesinfo.com/event/rmai-2022-regional-event-washington-d-c/
LOCATION:Washington D.C.
CATEGORIES:Live Event
ATTACH;FMTTYPE=image/jpeg:https://receivablesinfo.com/wp-content/uploads/2022/04/RMAI-2022-Regional-Event-Washington-D.C.jpg
END:VEVENT
BEGIN:VEVENT
DTSTART;TZID=America/New_York:20220919T000000
DTEND;TZID=America/New_York:20220921T235959
DTSTAMP:20260424T062731
CREATED:20220209T182429Z
LAST-MODIFIED:20250604T144644Z
UID:10000211-1663545600-1663804799@receivablesinfo.com
SUMMARY:NIADA Policy Conference 2022
DESCRIPTION:Visit Event Page
URL:https://receivablesinfo.com/event/niada-policy-conference-2022/
LOCATION:The Ritz-Carlton Pentagon City\, 1250 S Hayes St\, Arlington\, VA 22202\, United States\, Arlington\, VA\, 22202\, United States
CATEGORIES:Live Event
ATTACH;FMTTYPE=image/jpeg:https://receivablesinfo.com/wp-content/uploads/2022/02/NIADA-Policy-Conference-2022.jpg
END:VEVENT
BEGIN:VEVENT
DTSTART;TZID=America/New_York:20220830T000000
DTEND;TZID=America/New_York:20220831T235959
DTSTAMP:20260424T062731
CREATED:20220509T211841Z
LAST-MODIFIED:20250604T125437Z
UID:10000201-1661817600-1661990399@receivablesinfo.com
SUMMARY:Dealmakers West
DESCRIPTION:The one-on-one meetings event for fintech decision makers. \nVisit Event Page
URL:https://receivablesinfo.com/event/dealmakers-west/
LOCATION:The Ritz-Carlton\, Laguna Niguel\, One Ritz Carlton Dr\, Dana Point\, CA 92629\, United States\, Dana Point\, CA\, CA\, 92629\, United States
CATEGORIES:Live Event
ATTACH;FMTTYPE=image/jpeg:https://receivablesinfo.com/wp-content/uploads/2022/05/Dealmakers-West.jpg
END:VEVENT
END:VCALENDAR