BEGIN:VCALENDAR
VERSION:2.0
PRODID:-//Receivables Info - ECPv6.15.20//NONSGML v1.0//EN
CALSCALE:GREGORIAN
METHOD:PUBLISH
X-ORIGINAL-URL:https://receivablesinfo.com
X-WR-CALDESC:Events for Receivables Info
REFRESH-INTERVAL;VALUE=DURATION:PT1H
X-Robots-Tag:noindex
X-PUBLISHED-TTL:PT1H
BEGIN:VTIMEZONE
TZID:America/New_York
BEGIN:DAYLIGHT
TZOFFSETFROM:-0500
TZOFFSETTO:-0400
TZNAME:EDT
DTSTART:20210314T070000
END:DAYLIGHT
BEGIN:STANDARD
TZOFFSETFROM:-0400
TZOFFSETTO:-0500
TZNAME:EST
DTSTART:20211107T060000
END:STANDARD
BEGIN:DAYLIGHT
TZOFFSETFROM:-0500
TZOFFSETTO:-0400
TZNAME:EDT
DTSTART:20220313T070000
END:DAYLIGHT
BEGIN:STANDARD
TZOFFSETFROM:-0400
TZOFFSETTO:-0500
TZNAME:EST
DTSTART:20221106T060000
END:STANDARD
BEGIN:DAYLIGHT
TZOFFSETFROM:-0500
TZOFFSETTO:-0400
TZNAME:EDT
DTSTART:20230312T070000
END:DAYLIGHT
BEGIN:STANDARD
TZOFFSETFROM:-0400
TZOFFSETTO:-0500
TZNAME:EST
DTSTART:20231105T060000
END:STANDARD
BEGIN:DAYLIGHT
TZOFFSETFROM:-0500
TZOFFSETTO:-0400
TZNAME:EDT
DTSTART:20240310T070000
END:DAYLIGHT
BEGIN:STANDARD
TZOFFSETFROM:-0400
TZOFFSETTO:-0500
TZNAME:EST
DTSTART:20241103T060000
END:STANDARD
END:VTIMEZONE
BEGIN:VTIMEZONE
TZID:UTC
BEGIN:STANDARD
TZOFFSETFROM:+0000
TZOFFSETTO:+0000
TZNAME:UTC
DTSTART:20210101T000000
END:STANDARD
END:VTIMEZONE
BEGIN:VTIMEZONE
TZID:America/Chicago
BEGIN:DAYLIGHT
TZOFFSETFROM:-0600
TZOFFSETTO:-0500
TZNAME:CDT
DTSTART:20210314T080000
END:DAYLIGHT
BEGIN:STANDARD
TZOFFSETFROM:-0500
TZOFFSETTO:-0600
TZNAME:CST
DTSTART:20211107T070000
END:STANDARD
BEGIN:DAYLIGHT
TZOFFSETFROM:-0600
TZOFFSETTO:-0500
TZNAME:CDT
DTSTART:20220313T080000
END:DAYLIGHT
BEGIN:STANDARD
TZOFFSETFROM:-0500
TZOFFSETTO:-0600
TZNAME:CST
DTSTART:20221106T070000
END:STANDARD
BEGIN:DAYLIGHT
TZOFFSETFROM:-0600
TZOFFSETTO:-0500
TZNAME:CDT
DTSTART:20230312T080000
END:DAYLIGHT
BEGIN:STANDARD
TZOFFSETFROM:-0500
TZOFFSETTO:-0600
TZNAME:CST
DTSTART:20231105T070000
END:STANDARD
END:VTIMEZONE
BEGIN:VEVENT
DTSTART;VALUE=DATE:20230308
DTEND;VALUE=DATE:20230311
DTSTAMP:20260421T104100
CREATED:20230113T195804Z
LAST-MODIFIED:20230113T195804Z
UID:10000012-1678233600-1678492799@receivablesinfo.com
SUMMARY:HFMA Revenue Cycle Conference
DESCRIPTION:Visit Event Page
URL:https://receivablesinfo.com/event/hfma-revenue-cycle-conference-2/
LOCATION:Phoenix\, AZ
CATEGORIES:Live Event
ATTACH;FMTTYPE=image/jpeg:https://receivablesinfo.com/wp-content/uploads/2022/08/HFMA-Revenue-Cycle-Conference.jpg
END:VEVENT
BEGIN:VEVENT
DTSTART;VALUE=DATE:20230221
DTEND;VALUE=DATE:20230225
DTSTAMP:20260421T104100
CREATED:20230113T195948Z
LAST-MODIFIED:20230113T195948Z
UID:10000013-1676937600-1677283199@receivablesinfo.com
SUMMARY:ACA Committee of 100 Meeting
DESCRIPTION:Secure a competitive edge for your company\, drive breakthrough innovation\, and maximize team productivity. Through dynamic discussions at this invitation-only event\, led by ACA 2022-2023 President Courtney Reynaud\, you’ll learn from other top leaders in the industry to help you and your organization master complex challenges and capitalize on emerging opportunities. \nVisit Event Page
URL:https://receivablesinfo.com/event/aca-committee-of-100-meeting-2/
LOCATION:Ritz Carlton Laguna Niguel\, One Ritz Carlton Dr\, Dana Point\, CA 92629\, United States\, Dana Point\, CA\, CA\, 92629\, United States
CATEGORIES:Live Event
ATTACH;FMTTYPE=image/jpeg:https://receivablesinfo.com/wp-content/uploads/2022/08/ACA-Committee-of-100-Meeting.jpg
END:VEVENT
BEGIN:VEVENT
DTSTART;VALUE=DATE:20230206
DTEND;VALUE=DATE:20230210
DTSTAMP:20260421T104100
CREATED:20230113T200513Z
LAST-MODIFIED:20230113T200513Z
UID:10000015-1675641600-1675987199@receivablesinfo.com
SUMMARY:RMAI Annual Conference
DESCRIPTION:Join us in Las Vegas\, February 6-9\, for the 2023 RMAI Annual Conference. Registration opens October 3\, 2022. If you are in the receivables management industry\, this is the premier event for you and your team to kick off the new year. Debt buyers\, originating creditors\, collection agencies\, law firms\, brokers\, and affiliates gather for timely industry education\, in-person networking\, and business development prospects. \nVisit Event Page
URL:https://receivablesinfo.com/event/rmai-annual-conference-2/
LOCATION:CA
CATEGORIES:Live Event
ATTACH;FMTTYPE=image/jpeg:https://receivablesinfo.com/wp-content/uploads/2022/08/RMAI-Annual-Conference.jpg
END:VEVENT
BEGIN:VEVENT
DTSTART;VALUE=DATE:20230124
DTEND;VALUE=DATE:20230127
DTSTAMP:20260421T104100
CREATED:20230113T200710Z
LAST-MODIFIED:20230113T200710Z
UID:10000016-1674518400-1674777599@receivablesinfo.com
SUMMARY:AFSA Vehicle Finance Conference & Expo
DESCRIPTION:The 2023 Vehicle Finance Conference & Expo is the premier educational and networking opportunity for the vehicle finance industry. \nVisit Event Page
URL:https://receivablesinfo.com/event/afsa-vehicle-finance-conference-expo/
LOCATION:Hilton Anatole\, Dallas\, TX
CATEGORIES:Live Event
ATTACH;FMTTYPE=image/jpeg:https://receivablesinfo.com/wp-content/uploads/2022/08/AFSA-Vehicle-Finance-Conference-Expo.jpg
END:VEVENT
BEGIN:VEVENT
DTSTART;VALUE=DATE:20230111
DTEND;VALUE=DATE:20230114
DTSTAMP:20260421T104100
CREATED:20230113T200850Z
LAST-MODIFIED:20230113T200850Z
UID:10000017-1673395200-1673654399@receivablesinfo.com
SUMMARY:National Creditors Bar Association 2023 Executive Experience
DESCRIPTION:Visit Event Page
URL:https://receivablesinfo.com/event/national-creditors-bar-association-2023-executive-experience-2/
LOCATION:Ojai Valley Inn\, 905 Country Club Rd\, Ojai\, CA 93023\, United States\, Ojai\, CA\, CA\, 93023\, United States
CATEGORIES:Live Event
ATTACH;FMTTYPE=image/jpeg:https://receivablesinfo.com/wp-content/uploads/2022/08/National-Creditors-Bar-Association-2023-Executive-Experience.jpg
END:VEVENT
BEGIN:VEVENT
DTSTART;TZID=America/New_York:20221106T000000
DTEND;TZID=America/New_York:20221109T235959
DTSTAMP:20260421T104100
CREATED:20211123T195708Z
LAST-MODIFIED:20250604T142649Z
UID:10000204-1667692800-1668038399@receivablesinfo.com
SUMMARY:National Association of Subrogation Professionals (NASP) 2022 Fall Conference
DESCRIPTION:Visit Event Page
URL:https://receivablesinfo.com/event/national-association-of-subrogation-professionals-nasp-2022-fall-conference/
LOCATION:J. W. Marriott\, 400 S Collier Blvd\, Marco Island\, FL 34145\, United States\, Marco Island\, FL\, 34145\, United States
CATEGORIES:Live Event
ATTACH;FMTTYPE=image/jpeg:https://receivablesinfo.com/wp-content/uploads/2021/10/National-Association-of-Subrogation-Professionals-NASP-2022-Fall-Conference.jpg
END:VEVENT
BEGIN:VEVENT
DTSTART;TZID=America/New_York:20221102T000000
DTEND;TZID=America/New_York:20221104T235959
DTSTAMP:20260421T104100
CREATED:20220509T212535Z
LAST-MODIFIED:20250604T125558Z
UID:10000202-1667347200-1667606399@receivablesinfo.com
SUMMARY:ACA Fall Forum 2022
DESCRIPTION:This event brings members together annually in Chicago and features education and solutions for members to advance in the industry. Education tracks include legal education\, health care\, and hot topics. \nVisit Event Page
URL:https://receivablesinfo.com/event/aca-fall-forum-2022/
LOCATION:Radisson Blu Aqua\, 221 N Columbus Dr\, Chicago\, IL 60601\, United States\, Chicago\, IL\, IL\, 60601\, United States
CATEGORIES:Live Event
ATTACH;FMTTYPE=image/jpeg:https://receivablesinfo.com/wp-content/uploads/2022/05/ACA-Fall-Forum-2022.jpg
END:VEVENT
BEGIN:VEVENT
DTSTART;TZID=America/New_York:20221102T000000
DTEND;TZID=America/New_York:20221104T235959
DTSTAMP:20260421T104100
CREATED:20220209T182416Z
LAST-MODIFIED:20250604T144608Z
UID:10000210-1667347200-1667606399@receivablesinfo.com
SUMMARY:NEFA 2022 Funding Symposium
DESCRIPTION:Visit Event Page
URL:https://receivablesinfo.com/event/nefa-2022-funding-symposium/
LOCATION:Omni Nashville Hotel\, 250 5th Ave S\, Nashville\, TN 37203\, United States\, Nashville\, TN\, 37203\, United States
CATEGORIES:Live Event
ATTACH;FMTTYPE=image/jpeg:https://receivablesinfo.com/wp-content/uploads/2022/02/NEFA-2022-Funding-Symposium.jpg
END:VEVENT
BEGIN:VEVENT
DTSTART;TZID=America/New_York:20221026T000000
DTEND;TZID=America/New_York:20221029T235959
DTSTAMP:20260421T104100
CREATED:20211027T191609Z
LAST-MODIFIED:20250603T201347Z
UID:10000162-1666742400-1667087999@receivablesinfo.com
SUMMARY:National Creditors Bar Association 2022 Fall Conference
DESCRIPTION:TBA- More Information coming soon \nVisit Event Page
URL:https://receivablesinfo.com/event/national-creditors-bar-association-2022-fall-conference/
LOCATION:JW Marriott Tampa Water Street\, 505 Water St\, Tampa\, FL 33602\, United States\, Tampa\, FL\, 33602\, United States
CATEGORIES:Live Event
ATTACH;FMTTYPE=image/jpeg:https://receivablesinfo.com/wp-content/uploads/2021/10/RI-2021.10-FeaturedEventImage-AS-395703739.jpg
END:VEVENT
BEGIN:VEVENT
DTSTART;TZID=America/New_York:20220926T000000
DTEND;TZID=America/New_York:20220928T235959
DTSTAMP:20260421T104100
CREATED:20220418T130815Z
LAST-MODIFIED:20250604T122926Z
UID:10000191-1664150400-1664409599@receivablesinfo.com
SUMMARY:2022 Florida Collectors Association Conference
DESCRIPTION:The 2022 Florida Collectors Association Conference will be held September 26-28\, 2022 at the Eau Palm Beach Resort & Spa. \nVisit Event Page
URL:https://receivablesinfo.com/event/2022-florida-collectors-association-conference/
LOCATION:Eau Palm Beach Resort & Spa\, Manalapan\, FL
CATEGORIES:Live Event
ATTACH;FMTTYPE=image/jpeg:https://receivablesinfo.com/wp-content/uploads/2022/04/2022-Florida-Collectors-Association-Conference.jpg
END:VEVENT
BEGIN:VEVENT
DTSTART;TZID=UTC:20220926T000000
DTEND;TZID=UTC:20220927T235959
DTSTAMP:20260421T104100
CREATED:20220414T201813Z
LAST-MODIFIED:20250604T122512Z
UID:10000188-1664150400-1664323199@receivablesinfo.com
SUMMARY:RMAI 2022 Regional Event: Washington D.C.
DESCRIPTION:Join us for this two day event in Washington D.C.\, focused on legislative advocacy and business networking. The program will include education\, networking and a Nationals baseball game. Sponsorship opportunities are available. \nVisit Event Page
URL:https://receivablesinfo.com/event/rmai-2022-regional-event-washington-d-c/
LOCATION:Washington D.C.
CATEGORIES:Live Event
ATTACH;FMTTYPE=image/jpeg:https://receivablesinfo.com/wp-content/uploads/2022/04/RMAI-2022-Regional-Event-Washington-D.C.jpg
END:VEVENT
BEGIN:VEVENT
DTSTART;TZID=America/New_York:20220919T000000
DTEND;TZID=America/New_York:20220921T235959
DTSTAMP:20260421T104100
CREATED:20220209T182429Z
LAST-MODIFIED:20250604T144644Z
UID:10000211-1663545600-1663804799@receivablesinfo.com
SUMMARY:NIADA Policy Conference 2022
DESCRIPTION:Visit Event Page
URL:https://receivablesinfo.com/event/niada-policy-conference-2022/
LOCATION:The Ritz-Carlton Pentagon City\, 1250 S Hayes St\, Arlington\, VA 22202\, United States\, Arlington\, VA\, 22202\, United States
CATEGORIES:Live Event
ATTACH;FMTTYPE=image/jpeg:https://receivablesinfo.com/wp-content/uploads/2022/02/NIADA-Policy-Conference-2022.jpg
END:VEVENT
BEGIN:VEVENT
DTSTART;TZID=America/New_York:20220830T000000
DTEND;TZID=America/New_York:20220831T235959
DTSTAMP:20260421T104100
CREATED:20220509T211841Z
LAST-MODIFIED:20250604T125437Z
UID:10000201-1661817600-1661990399@receivablesinfo.com
SUMMARY:Dealmakers West
DESCRIPTION:The one-on-one meetings event for fintech decision makers. \nVisit Event Page
URL:https://receivablesinfo.com/event/dealmakers-west/
LOCATION:The Ritz-Carlton\, Laguna Niguel\, One Ritz Carlton Dr\, Dana Point\, CA 92629\, United States\, Dana Point\, CA\, CA\, 92629\, United States
CATEGORIES:Live Event
ATTACH;FMTTYPE=image/jpeg:https://receivablesinfo.com/wp-content/uploads/2022/05/Dealmakers-West.jpg
END:VEVENT
BEGIN:VEVENT
DTSTART;TZID=America/New_York:20220829T000000
DTEND;TZID=America/New_York:20220831T235959
DTSTAMP:20260421T104100
CREATED:20220509T211508Z
LAST-MODIFIED:20250604T125312Z
UID:10000200-1661731200-1661990399@receivablesinfo.com
SUMMARY:LendConnect 2022
DESCRIPTION:Annual Conference for the Small Dollar Lending Industry \nVisit Event Page
URL:https://receivablesinfo.com/event/lendconnect-2022/
LOCATION:Seminole Hard Rock Hotel and Casino\, 1 Seminole Way\, Hollywood\, FL 33314\, United States\, Hollywood\, FL\, FL\, 33314\, United States
CATEGORIES:Live Event
ATTACH;FMTTYPE=image/jpeg:https://receivablesinfo.com/wp-content/uploads/2022/05/LendConnect-2022.jpg
END:VEVENT
BEGIN:VEVENT
DTSTART;TZID=UTC:20220720T000000
DTEND;TZID=UTC:20220722T235959
DTSTAMP:20260421T104100
CREATED:20220414T201621Z
LAST-MODIFIED:20250604T122332Z
UID:10000160-1658275200-1658534399@receivablesinfo.com
SUMMARY:ACA International 2022 Annual Convention & Expo
DESCRIPTION:ACA’s flagship event featuring a fabulous lineup of inspiring keynotes on the main stage\, as well as industry innovators\, wayfinders\, and experts who share business operation tips and insights in education sessions. Convention is ACA’s largest event of the year with networking opportunities and gatherings for everyone including first time attendees and new members\, young professionals and women in collections. \nVisit Event Page
URL:https://receivablesinfo.com/event/aca-international-2022-annual-convention-expo/
LOCATION:Rosen Shingle Creek\, 9939 Universal Blvd\, Orlando\, FL 32819\, United States\, Orlando\, FL\, 32819\, United States
CATEGORIES:Live Event
ATTACH;FMTTYPE=image/jpeg:https://receivablesinfo.com/wp-content/uploads/2022/04/ACA-International-2022-Annual-Convention-Expo.jpg
END:VEVENT
BEGIN:VEVENT
DTSTART;TZID=America/New_York:20220719T080000
DTEND;TZID=America/New_York:20220719T170000
DTSTAMP:20260421T104100
CREATED:20220509T211137Z
LAST-MODIFIED:20250604T125115Z
UID:10000199-1658217600-1658250000@receivablesinfo.com
SUMMARY:[Pre-Convention] Blueprint Quality Management System Workshop
DESCRIPTION:Show your clients that your agency is one they can trust by pursuing the Blueprint Quality Management System certification. Blueprint is the redesigned and modernized Professional Practices Management System (PPMS). Held one day before the convention kicks off\, this Blueprint workshop is the first step to initial certification. The 18 elements presented will help organizations cut down on the number of mistakes it makes\, improve inter-departmental communication\, efficiently resolve client issues and improve their bottom-line. Learn more about Blueprint certification online at https://www.acainternational.org/education/blueprint. \nVisit Event Page
URL:https://receivablesinfo.com/event/pre-convention-blueprint-quality-management-system-workshop/
LOCATION:Rosen Shingle Creek\, 9939 Universal Blvd\, Orlando\, FL 32819\, United States\, Orlando\, FL\, 32819\, United States
CATEGORIES:Live Event
ATTACH;FMTTYPE=image/jpeg:https://receivablesinfo.com/wp-content/uploads/2022/05/Pre-Convention-Blueprint-Quality-Management-System-Workshop.jpg
END:VEVENT
BEGIN:VEVENT
DTSTART;TZID=America/New_York:20220626T000000
DTEND;TZID=America/New_York:20220629T235959
DTSTAMP:20260421T104100
CREATED:20220209T174954Z
LAST-MODIFIED:20260406T114547Z
UID:10000150-1656201600-1656547199@receivablesinfo.com
SUMMARY:HFMA 2022 Annual Conference
DESCRIPTION:“Meet us in the Mile High City for the HFMA Annual Conference on June 26-29. Prepare to go Above and Beyond as we take the Cost Effectiveness of Health initiative to new heights\, exploring how we can sustainably deliver better health outcomes.” \nVisit Event Page
URL:https://receivablesinfo.com/event/hfma-2022-annual-conference-2023/
LOCATION:CA
CATEGORIES:Live Event
ATTACH;FMTTYPE=image/jpeg:https://receivablesinfo.com/wp-content/uploads/2022/02/HFMA-2022-Annual-Conference.jpg
END:VEVENT
BEGIN:VEVENT
DTSTART;TZID=America/New_York:20220616T000000
DTEND;TZID=America/New_York:20220618T235959
DTSTAMP:20260421T104100
CREATED:20220509T210547Z
LAST-MODIFIED:20250604T124922Z
UID:10000198-1655337600-1655596799@receivablesinfo.com
SUMMARY:Associated Collection Agencies\, Inc
DESCRIPTION:Associated Collection Agencies Inc. is a State Unit of ACA International\, with members representing Colorado\, Wyoming and New Mexico. The annual convention each summer offers a terrific forum for members to talk shop\, renew old friendships and have some fun at the same time. While it is true that ACA members are actually competitors\, this group has learned that by pooling their many resources\, both the collection industry and its members are beneficiaries many times over. \nVisit Event Page
URL:https://receivablesinfo.com/event/associated-collection-agencies-inc/
LOCATION:The Ridgeline Hotel\, 101 S St Vrain Ave\, Estes Park\, CO 80517\, United States\, Estes Park\, CO\, CO\, 80517\, United States
CATEGORIES:Live Event
ATTACH;FMTTYPE=image/jpeg:https://receivablesinfo.com/wp-content/uploads/2022/05/Associated-Collection-Agencies-Inc.jpg
END:VEVENT
BEGIN:VEVENT
DTSTART;TZID=America/New_York:20220606T000000
DTEND;TZID=America/New_York:20220608T235959
DTSTAMP:20260421T104100
CREATED:20211123T195936Z
LAST-MODIFIED:20250604T142648Z
UID:10000203-1654473600-1654732799@receivablesinfo.com
SUMMARY:NCHER 2022 Annual Conference
DESCRIPTION:“NCHER is to provide superior advocacy\, communications\, regulatory analysis and engagement\, and operational support to its members so they may effectively help students and families develop\, pay for\, and achieve their career\, training\, and postsecondary educational goals.” \nVisit Event Page
URL:https://receivablesinfo.com/event/ncher-2022-annual-conference/
LOCATION:The DeSoto\, 15 E Liberty\, Savannah\, GA 31401\, United States\, Savannah\, GA\, 31401\, United States
CATEGORIES:Live Event
ATTACH;FMTTYPE=image/jpeg:https://receivablesinfo.com/wp-content/uploads/2021/10/NCHER-2022-Annual-Conference.jpg
END:VEVENT
BEGIN:VEVENT
DTSTART;TZID=America/New_York:20220606T000000
DTEND;TZID=America/New_York:20220606T235959
DTSTAMP:20260421T104100
CREATED:20220509T120754Z
LAST-MODIFIED:20250604T124752Z
UID:10000197-1654473600-1654559999@receivablesinfo.com
SUMMARY:CAC Virtual Legislative Day
DESCRIPTION:California Association of Collectors is a unit of ACA International. For more information about the event\, contact: info@calcollectors.net or (916) 929-2125 \nVisit Event Page
URL:https://receivablesinfo.com/event/cac-virtual-legislative-day/
LOCATION:CA
CATEGORIES:Virtual Event
ATTACH;FMTTYPE=image/jpeg:https://receivablesinfo.com/wp-content/uploads/2022/05/CAC-Virtual-Legislative-Day.jpg
END:VEVENT
BEGIN:VEVENT
DTSTART;TZID=America/Chicago:20220525T130000
DTEND;TZID=America/Chicago:20220525T130000
DTSTAMP:20260421T104100
CREATED:20220506T221207Z
LAST-MODIFIED:20250604T124630Z
UID:10000196-1653483600-1653483600@receivablesinfo.com
SUMMARY:ACA Hot Topic Seminar - We Made It! So...Now What?
DESCRIPTION:This is part of ACA’s Bridging the Distance Between Hiring\, Training\, Nesting\, and Performing with a Remote Workforce series. In the final session\, session leaders will discuss how to keep employees engaged and productive to help increase retention and reduce turnover. Take away a plethora of ideas\, tips and tricks on how to stay connected and bridge the distance between all employees in your organization.  \nVisit Event Page
URL:https://receivablesinfo.com/event/aca-hot-topic-seminar-we-made-it-so-now-what/
LOCATION:Virtual
CATEGORIES:Virtual Event
ATTACH;FMTTYPE=image/jpeg:https://receivablesinfo.com/wp-content/uploads/2022/05/ACA-Hot-Topic-Seminar-We-Made-It-So...Now-What.jpg
END:VEVENT
BEGIN:VEVENT
DTSTART;TZID=America/New_York:20220525T000000
DTEND;TZID=America/New_York:20220526T235959
DTSTAMP:20260421T104100
CREATED:20211123T195908Z
LAST-MODIFIED:20250603T203039Z
UID:10000167-1653436800-1653609599@receivablesinfo.com
SUMMARY:LendIt Fintech USA 2022
DESCRIPTION:“The fintech industry is converging as banks are becoming more like fintechs and fintechs are becoming more like banks. This convergence will be on full display at LendIt Fintech USA 2022 where we will be bringing leading thinkers together to discuss the most important topics of the day.” \nVisit Event Page
URL:https://receivablesinfo.com/event/lendit-fintech-usa-2022/
LOCATION:Javits Center\, NYC\, 429 11th Ave\, New York\, NY 10001\, United States\, New York\, NY\, 10001\, United States
CATEGORIES:Live Event
ATTACH;FMTTYPE=image/jpeg:https://receivablesinfo.com/wp-content/uploads/2021/01/LendIt-Fintech-USA-2022.jpg
END:VEVENT
BEGIN:VEVENT
DTSTART;TZID=America/New_York:20220519T000000
DTEND;TZID=America/New_York:20220519T235959
DTSTAMP:20260421T104100
CREATED:20220506T221049Z
LAST-MODIFIED:20250604T124432Z
UID:10000195-1652918400-1653004799@receivablesinfo.com
SUMMARY:ACA Hot Topic Seminar - State Specifics for Collectors 2
DESCRIPTION:Join Nick Prola\, Stefanie Jackman and Abigail Pressler explore what’s new regarding state laws and what’s coming up. \nVisit Event Page
URL:https://receivablesinfo.com/event/aca-hot-topic-seminar-state-specifics-for-collectors-2/
LOCATION:Virtual
CATEGORIES:Virtual Event
ATTACH;FMTTYPE=image/jpeg:https://receivablesinfo.com/wp-content/uploads/2022/05/ACA-Hot-Topic-Seminar-State-Specifics-for-Collectors-2.jpg
END:VEVENT
BEGIN:VEVENT
DTSTART;TZID=America/Chicago:20220518T140000
DTEND;TZID=America/Chicago:20220518T140000
DTSTAMP:20260421T104100
CREATED:20220506T123311Z
LAST-MODIFIED:20250604T124055Z
UID:10000193-1652882400-1652882400@receivablesinfo.com
SUMMARY:ACA Hot Topic Seminar - Data Reporting: Compliance & Operational Metrics
DESCRIPTION:Agencies have access to millions of data points of consumer behavior. Do you wish you knew how to wade through that ocean of information to identify important metrics? This Hot Topic SERIES will do just that for you.  \nVisit Event Page
URL:https://receivablesinfo.com/event/aca-hot-topic-seminar-data-reporting-compliance-operational-metrics/
LOCATION:CA
CATEGORIES:Virtual Event
ATTACH;FMTTYPE=image/jpeg:https://receivablesinfo.com/wp-content/uploads/2022/05/ACA-Hot-Topic-Seminar-Data-Reporting-Compliance-Operational-Metrics.jpg
END:VEVENT
BEGIN:VEVENT
DTSTART;TZID=America/New_York:20220518T120000
DTEND;TZID=America/New_York:20220518T120000
DTSTAMP:20260421T104100
CREATED:20220506T220905Z
LAST-MODIFIED:20250604T124249Z
UID:10000194-1652875200-1652875200@receivablesinfo.com
SUMMARY:RMAI Education: Best Practices and Considerations for an Effective Estate Recovery Strategy
DESCRIPTION:It’s important to understand that the differences between traditional debt recovery and decedent account recovery are significant\, and decedent accounts require specialized treatment. As such\, these accounts shouldn’t follow the same path that traditional delinquent accounts follow. Identifying probated estates and filing creditors’ claims are a complicated\, yet critical\, part of this specialty receivable as well. Simply searching for probate cases\, managing the process\, and remaining compliant within the requirements to present claims in each jurisdiction (of which there are more than 3\,400)\, and doing so in compliance with Regulation F\, is enough to cause complications. \nVisit Event Page
URL:https://receivablesinfo.com/event/rmai-education-best-practices-and-considerations-for-an-effective-estate-recovery-strategy/
LOCATION:Virtual
CATEGORIES:Virtual Event
ATTACH;FMTTYPE=image/jpeg:https://receivablesinfo.com/wp-content/uploads/2022/05/RMAI-Education-Best-Practices-and-Considerations-for-an-Effective-Estate-Recovery-Strategy.jpg
END:VEVENT
BEGIN:VEVENT
DTSTART;TZID=America/New_York:20220518T000000
DTEND;TZID=America/New_York:20220520T235959
DTSTAMP:20260421T104100
CREATED:20211025T190722Z
LAST-MODIFIED:20250603T200250Z
UID:10000156-1652832000-1653091199@receivablesinfo.com
SUMMARY:FinovateSpring
DESCRIPTION:The startup ecosystem gathers here to learn about new innovations\, find the technologies and connections to stay relevant\, and share solutions.  \nVisit Event Page
URL:https://receivablesinfo.com/event/finovatespring/
LOCATION:Hilton San Francisco Union Square\, 333 O'Farrell St\, San Francisco\, CA 94102\, United States\, San Francisco\, CA\, 94102\, United States
CATEGORIES:Live Event
ATTACH;FMTTYPE=image/jpeg:https://receivablesinfo.com/wp-content/uploads/2021/09/RI-2021.10-FeaturedEventImage-AS-1312409.jpg
END:VEVENT
BEGIN:VEVENT
DTSTART;TZID=UTC:20220518T000000
DTEND;TZID=UTC:20220519T235959
DTSTAMP:20260421T104100
CREATED:20220414T201126Z
LAST-MODIFIED:20250604T122324Z
UID:10000187-1652832000-1653004799@receivablesinfo.com
SUMMARY:2022 Washington Insights Fly-In
DESCRIPTION:Come join ACA and its members in advocating in regard to several pressing issues including medical debt and credit reporting\, Regulation F and other CFPB policymaking\, Telecom issues impacting the ability to make calls\, as well as several pieces of Congressional legislation that directly impact the ARM Industry. \nVisit Event Page
URL:https://receivablesinfo.com/event/2022-washington-insights-fly-in/
LOCATION:Washington D.C.
CATEGORIES:Live Event
ATTACH;FMTTYPE=image/jpeg:https://receivablesinfo.com/wp-content/uploads/2022/04/2022-Washington-Insights-Fly-In.jpg
END:VEVENT
BEGIN:VEVENT
DTSTART;TZID=America/New_York:20220517T130000
DTEND;TZID=America/New_York:20220517T130000
DTSTAMP:20260421T104101
CREATED:20220506T122249Z
LAST-MODIFIED:20250604T123755Z
UID:10000192-1652792400-1652792400@receivablesinfo.com
SUMMARY:ACA Hot Topic Seminar - "Nesting" New Hires
DESCRIPTION:Most turnover occurs between day 30-65 from date of hire. This open discussion will bring to the table how to navigate through the “nesting” or\, the Bull Pen phase. The time in which the new hires leave the classroom environment and continue their training and development in a “nest” or Bull Pen environment before joining their team. Learn about setting KPIs\, small wins\, soft skill training\, preparing your employees for the transition to the real world and much more. \nVisit Event Page
URL:https://receivablesinfo.com/event/aca-hot-topic-seminar-nesting-new-hires/
LOCATION:CA
CATEGORIES:Virtual Event
ATTACH;FMTTYPE=image/jpeg:https://receivablesinfo.com/wp-content/uploads/2022/05/ACA-Hot-Topic-Seminar-Nesting-New-Hires.jpg
END:VEVENT
BEGIN:VEVENT
DTSTART;TZID=America/Chicago:20220512T130000
DTEND;TZID=America/Chicago:20220512T130000
DTSTAMP:20260421T104101
CREATED:20220414T195951Z
LAST-MODIFIED:20250604T122059Z
UID:10000186-1652360400-1652360400@receivablesinfo.com
SUMMARY:Hot Topic Seminars: Training
DESCRIPTION:The second session in the series will be centered around new hire training in both the remote and in office environment including the hybrid alternative. This open discussion will bring to the table tips and tricks to keep your new hire training fun and engaging by utilizing inexpensive and free (YES FREE!) on line tools that can be\, and are\, created for specific topics such as FDCPA\, FCRA\, HIPAA\, call de-escalation and more! \nVisit Event Page
URL:https://receivablesinfo.com/event/hot-topic-seminars-training/
LOCATION:Webinar
CATEGORIES:Virtual Event
ATTACH;FMTTYPE=image/jpeg:https://receivablesinfo.com/wp-content/uploads/2022/04/Hot-Topic-Seminars-Training.jpg
END:VEVENT
BEGIN:VEVENT
DTSTART;TZID=America/New_York:20220512T000000
DTEND;TZID=America/New_York:20220513T235959
DTSTAMP:20260421T104101
CREATED:20220209T171131Z
LAST-MODIFIED:20250604T144648Z
UID:10000212-1652313600-1652486399@receivablesinfo.com
SUMMARY:AAHAM Wisconsin Chapter 2022 Spring Conference
DESCRIPTION:Visit Event Page
URL:https://receivablesinfo.com/event/aaham-wisconsin-chapter-2022-spring-conference/
LOCATION:The Wilderness\, 511 E Adams StWisconsin Dells 53965\, Wisconsin Dells\, WI\, 53965\, United States
CATEGORIES:Live Event
ATTACH;FMTTYPE=image/jpeg:https://receivablesinfo.com/wp-content/uploads/2022/02/AAHAM-Wisconsin-Chapter-2022-Spring-Conference.jpg
END:VEVENT
END:VCALENDAR