BEGIN:VCALENDAR
VERSION:2.0
PRODID:-//Receivables Info - ECPv6.15.20//NONSGML v1.0//EN
CALSCALE:GREGORIAN
METHOD:PUBLISH
X-WR-CALNAME:Receivables Info
X-ORIGINAL-URL:https://receivablesinfo.com
X-WR-CALDESC:Events for Receivables Info
REFRESH-INTERVAL;VALUE=DURATION:PT1H
X-Robots-Tag:noindex
X-PUBLISHED-TTL:PT1H
BEGIN:VTIMEZONE
TZID:America/New_York
BEGIN:DAYLIGHT
TZOFFSETFROM:-0500
TZOFFSETTO:-0400
TZNAME:EDT
DTSTART:20200308T070000
END:DAYLIGHT
BEGIN:STANDARD
TZOFFSETFROM:-0400
TZOFFSETTO:-0500
TZNAME:EST
DTSTART:20201101T060000
END:STANDARD
BEGIN:DAYLIGHT
TZOFFSETFROM:-0500
TZOFFSETTO:-0400
TZNAME:EDT
DTSTART:20210314T070000
END:DAYLIGHT
BEGIN:STANDARD
TZOFFSETFROM:-0400
TZOFFSETTO:-0500
TZNAME:EST
DTSTART:20211107T060000
END:STANDARD
BEGIN:DAYLIGHT
TZOFFSETFROM:-0500
TZOFFSETTO:-0400
TZNAME:EDT
DTSTART:20220313T070000
END:DAYLIGHT
BEGIN:STANDARD
TZOFFSETFROM:-0400
TZOFFSETTO:-0500
TZNAME:EST
DTSTART:20221106T060000
END:STANDARD
BEGIN:DAYLIGHT
TZOFFSETFROM:-0500
TZOFFSETTO:-0400
TZNAME:EDT
DTSTART:20230312T070000
END:DAYLIGHT
BEGIN:STANDARD
TZOFFSETFROM:-0400
TZOFFSETTO:-0500
TZNAME:EST
DTSTART:20231105T060000
END:STANDARD
END:VTIMEZONE
BEGIN:VTIMEZONE
TZID:UTC
BEGIN:STANDARD
TZOFFSETFROM:+0000
TZOFFSETTO:+0000
TZNAME:UTC
DTSTART:20210101T000000
END:STANDARD
END:VTIMEZONE
BEGIN:VTIMEZONE
TZID:America/Chicago
BEGIN:DAYLIGHT
TZOFFSETFROM:-0600
TZOFFSETTO:-0500
TZNAME:CDT
DTSTART:20210314T080000
END:DAYLIGHT
BEGIN:STANDARD
TZOFFSETFROM:-0500
TZOFFSETTO:-0600
TZNAME:CST
DTSTART:20211107T070000
END:STANDARD
BEGIN:DAYLIGHT
TZOFFSETFROM:-0600
TZOFFSETTO:-0500
TZNAME:CDT
DTSTART:20220313T080000
END:DAYLIGHT
BEGIN:STANDARD
TZOFFSETFROM:-0500
TZOFFSETTO:-0600
TZNAME:CST
DTSTART:20221106T070000
END:STANDARD
BEGIN:DAYLIGHT
TZOFFSETFROM:-0600
TZOFFSETTO:-0500
TZNAME:CDT
DTSTART:20230312T080000
END:DAYLIGHT
BEGIN:STANDARD
TZOFFSETFROM:-0500
TZOFFSETTO:-0600
TZNAME:CST
DTSTART:20231105T070000
END:STANDARD
END:VTIMEZONE
BEGIN:VEVENT
DTSTART;TZID=America/New_York:20220511T140000
DTEND;TZID=America/New_York:20220511T140000
DTSTAMP:20260421T133805
CREATED:20220414T195545Z
LAST-MODIFIED:20250604T121757Z
UID:10000184-1652277600-1652277600@receivablesinfo.com
SUMMARY:Data Matters: How to Build the Foundation of Your Data Stewardship\, Standardization\, and Security Programs- Session 3: Data Security
DESCRIPTION:The CFPB has made clear that a major target for their review in the coming months and years is data security. Are you reviewing your data security policies the way you need to be? \nVisit Event Page
URL:https://receivablesinfo.com/event/data-matters-how-to-build-the-foundation-of-your-data-stewardship-standardization-and-security-programs-session-3-data-security/
LOCATION:Webinar
CATEGORIES:Virtual Event
ATTACH;FMTTYPE=image/jpeg:https://receivablesinfo.com/wp-content/uploads/2022/04/Data-Matters-How-to-Build-the-Foundation-of-Your-Data-Stewardship-Standardization-and-Security-Programs-Session-3-Data-Security.jpg
END:VEVENT
BEGIN:VEVENT
DTSTART;TZID=America/New_York:20220511T000000
DTEND;TZID=America/New_York:20220513T235959
DTSTAMP:20260421T133806
CREATED:20220418T130534Z
LAST-MODIFIED:20250604T122732Z
UID:10000190-1652227200-1652486399@receivablesinfo.com
SUMMARY:2022 Great Lakes Credit and Collection Association Conference
DESCRIPTION:The 6th Annual Conference for GLCCA–the merged ACA Wisconsin\, Illinois\, and Minnesota affilliates–will take place on May 11-13\, 2022 at The Westin O’Hare in Rosemont\, Illinois. \nVisit Event Page
URL:https://receivablesinfo.com/event/2022-great-lakes-credit-and-collection-association-conference/
LOCATION:The Westin O’Hare\, Rosemont\, IL
CATEGORIES:Live Event
ATTACH;FMTTYPE=image/jpeg:https://receivablesinfo.com/wp-content/uploads/2022/04/2022-Great-Lakes-Credit-and-Collection-Association-Conference.jpg
END:VEVENT
BEGIN:VEVENT
DTSTART;TZID=UTC:20220511T000000
DTEND;TZID=UTC:20220513T235959
DTSTAMP:20260421T133806
CREATED:20220414T195736Z
LAST-MODIFIED:20250604T121944Z
UID:10000185-1652227200-1652486399@receivablesinfo.com
SUMMARY:2022 GLCCA Conference
DESCRIPTION:Join GLCCA on May 11-13\, 2022 at The Westin O’Hare in Rosemont\, Illinois for their 6th Annual Conference! \nVisit Event Page
URL:https://receivablesinfo.com/event/2022-glcca-conference/
LOCATION:The Westin O’Hare\, 6100 N River Rd\, Rosemont\, IL 60018\, United States\, Rosemont\, IL\, IL\, 60018\, United States
CATEGORIES:Live Event
ATTACH;FMTTYPE=image/jpeg:https://receivablesinfo.com/wp-content/uploads/2022/04/2022-GLCCA-Conference.jpg
END:VEVENT
BEGIN:VEVENT
DTSTART;TZID=America/Chicago:20220505T130000
DTEND;TZID=America/Chicago:20220505T130000
DTSTAMP:20260421T133806
CREATED:20220414T195155Z
LAST-MODIFIED:20250604T121617Z
UID:10000183-1651755600-1651755600@receivablesinfo.com
SUMMARY:Hot Topic Seminars: Recruiting and Hiring
DESCRIPTION:The first session in the series will begin with building a foundation for the ideal employee starting with recruiting and hiring. This open discussion will bring to the table ideas\, tips\, tricks and different resources that can be utilized when looking for your ideal candidate in both the remote and in office environment. Where to look\, how to be creative with job descriptions and advertisements\, onboarding and more! \nVisit Event Page
URL:https://receivablesinfo.com/event/hot-topic-seminars-recruiting-and-hiring/
LOCATION:Webinar
CATEGORIES:Virtual Event
ATTACH;FMTTYPE=image/jpeg:https://receivablesinfo.com/wp-content/uploads/2022/04/Hot-Topic-Seminars-Recruiting-and-Hiring.jpg
END:VEVENT
BEGIN:VEVENT
DTSTART;TZID=America/New_York:20220504T140000
DTEND;TZID=America/New_York:20220504T140000
DTSTAMP:20260421T133806
CREATED:20220414T194130Z
LAST-MODIFIED:20250604T121439Z
UID:10000182-1651672800-1651672800@receivablesinfo.com
SUMMARY:Data Matters: How to Build the Foundation of Your Data Stewardship\, Standardization\, and Security Programs - Session 2: Data Standardization
DESCRIPTION:Every organization has a particular way they store and share their data\, from naming conventions to file layouts. And this makes transferring that data between organizations difficult and time consuming\, and requires so much time and effort from software developers. Does standardizing data reduce the competitive advantage of some organizations? \nVisit Event Page
URL:https://receivablesinfo.com/event/data-matters-how-to-build-the-foundation-of-your-data-stewardship-standardization-and-security-programs-session-2-data-standardization/
LOCATION:Webinar
CATEGORIES:Virtual Event
ATTACH;FMTTYPE=image/jpeg:https://receivablesinfo.com/wp-content/uploads/2022/04/Data-Matters-How-to-Build-the-Foundation-of-Your-Data-Stewardship-Standardization-and-Security-Programs-Session-2-Data-Standardization.jpg
END:VEVENT
BEGIN:VEVENT
DTSTART;TZID=America/New_York:20220504T000000
DTEND;TZID=America/New_York:20220506T235959
DTSTAMP:20260421T133806
CREATED:20211024T192414Z
LAST-MODIFIED:20250603T200244Z
UID:10000155-1651622400-1651881599@receivablesinfo.com
SUMMARY:National Creditors Bar Association 2022 Spring Conference
DESCRIPTION:“Join us in Music City for THE event for the Creditors Rights industry. The NCBA 2022 Spring Conference is an excellent opportunity to meet with creditors rights attorneys\, credit grantors\, and vendors in one location (and maybe catch some live music while you’re at it). In addition to exceptional educational sessions and CLE\, there will be Client Meetings\, Networking Events\, the NCBA Exhibit Hall\, and more! You won’t want to miss this opportunity to meet and mingle in person.” \nVisit Event Page
URL:https://receivablesinfo.com/event/national-creditors-bar-association-2022-spring-conference/
LOCATION:Omni Nashville Hotel\, 250 5th Ave S\, Nashville\, TN 37203\, United States\, Nashville\, TN\, 37203\, United States
CATEGORIES:Live Event
ATTACH;FMTTYPE=image/jpeg:https://receivablesinfo.com/wp-content/uploads/2021/09/RI-2021.10-FeaturedEventImage-AS-294819750-1.jpg
END:VEVENT
BEGIN:VEVENT
DTSTART;TZID=America/New_York:20220427T140000
DTEND;TZID=America/New_York:20220427T140000
DTSTAMP:20260421T133806
CREATED:20220414T193630Z
LAST-MODIFIED:20250604T121141Z
UID:10000181-1651068000-1651068000@receivablesinfo.com
SUMMARY:Data Matters: How to Build the Foundation of your Data Stewardship & Security Programs - Session 1: The Basics
DESCRIPTION:We have access to more data than ever in the collections space\, but how do we know we’re using it to our advantage? How are we keeping it safe? This webinar series will address how to build a data stewardship program\, why data standards are important\, and how to keep your data secure\, both internally and when you share it with a vendor. \nVisit Event Page
URL:https://receivablesinfo.com/event/data-matters-how-to-build-the-foundation-of-your-data-stewardship-security-programs-session-1-the-basics/
LOCATION:Webinar
CATEGORIES:Virtual Event
ATTACH;FMTTYPE=image/jpeg:https://receivablesinfo.com/wp-content/uploads/2022/04/Data-Matters-How-to-Build-the-Found.jpg
END:VEVENT
BEGIN:VEVENT
DTSTART;TZID=UTC:20220424T000000
DTEND;TZID=UTC:20220426T235959
DTSTAMP:20260421T133806
CREATED:20220414T192852Z
LAST-MODIFIED:20250604T120936Z
UID:10000180-1650758400-1651017599@receivablesinfo.com
SUMMARY:Midwest Collection Conference
DESCRIPTION:Contact: Joy Jackson – jnj@faberandbrand.com \nVisit Event Page
URL:https://receivablesinfo.com/event/midwest-collection-conference/
LOCATION:The Westin St. Louis\, 811 Spruce St\, St. Louis\, MO 63102\, United States\, St. Louis\, MO\, MO\, 63102\, United States
CATEGORIES:Live Event
ATTACH;FMTTYPE=image/jpeg:https://receivablesinfo.com/wp-content/uploads/2022/04/Midwest-Collection-Conference.jpg
END:VEVENT
BEGIN:VEVENT
DTSTART;TZID=America/Chicago:20220419T140000
DTEND;TZID=America/Chicago:20220419T140000
DTSTAMP:20260421T133806
CREATED:20220414T171339Z
LAST-MODIFIED:20250604T120721Z
UID:10000179-1650376800-1650376800@receivablesinfo.com
SUMMARY:Hot Topic Seminars: Modernizing Consumer Payments
DESCRIPTION:Join Tim Collins as he explores what the payment future looks like and how to make sure your business stays current (and secure) when taking a more innovative approach to how your receivables are handled. \nVisit Event Page
URL:https://receivablesinfo.com/event/hot-topic-seminars-modernizing-consumer-payments/
LOCATION:Webinar
CATEGORIES:Virtual Event
ATTACH;FMTTYPE=image/jpeg:https://receivablesinfo.com/wp-content/uploads/2022/04/Hot-Topic-Seminars-Modernizing-Consumer-Payments.jpg
END:VEVENT
BEGIN:VEVENT
DTSTART;TZID=America/New_York:20220331T000000
DTEND;TZID=America/New_York:20220402T235959
DTSTAMP:20260421T133806
CREATED:20220204T164114Z
LAST-MODIFIED:20250604T143511Z
UID:10000209-1648684800-1648943999@receivablesinfo.com
SUMMARY:Medical Practice Excellence: Financial Conference
DESCRIPTION:Medical Practice Excellence: Financial Conference is an industry-leading financial management conference designed to arm healthcare professionals with the education and tools needed to run a more profitable and efficient practice. The MPE: Financial Conference brings together leading financial experts from across the healthcare spectrum to discover the secrets to thrive during challenging times by digging deep into financial management\, payer contracting analysis and negotiation\, business intelligence and revenue cycle management best practices. \nVisit Event Page
URL:https://receivablesinfo.com/event/medical-practice-excellence-financial-conference/
LOCATION:Marriott Marquis Hotel: Atlanta\, Atlanta\, GA\, United States
CATEGORIES:Live Event
ATTACH;FMTTYPE=image/jpeg:https://receivablesinfo.com/wp-content/uploads/2022/02/Medical-Practice-Excellence-Financial-Conference.jpg
END:VEVENT
BEGIN:VEVENT
DTSTART;TZID=America/New_York:20220323T000000
DTEND;TZID=America/New_York:20220325T235959
DTSTAMP:20260421T133806
CREATED:20220204T163305Z
LAST-MODIFIED:20250604T143354Z
UID:10000207-1647993600-1648252799@receivablesinfo.com
SUMMARY:Customer Contact Week Executive Exchange
DESCRIPTION:“The CCW Executive Exchange is part of the world’s largest customer contact event series. This invitation-only event is built for today’s senior CX and Customer Contact Leaders as they aim to benchmark\, connect\, and identify solutions to critical business challenges in the most efficient and effective way possible.” \nVisit Event Page
URL:https://receivablesinfo.com/event/customer-contact-week-executive-exchange/
LOCATION:Renaissance Orlando at Seaworld\, Orlando\, FL\, FL\, United States
CATEGORIES:Live Event
ATTACH;FMTTYPE=image/jpeg:https://receivablesinfo.com/wp-content/uploads/2022/02/Customer-Contact-Week-Executive-Exchange.jpg
END:VEVENT
BEGIN:VEVENT
DTSTART;TZID=America/New_York:20220323T000000
DTEND;TZID=America/New_York:20220325T235959
DTSTAMP:20260421T133806
CREATED:20211123T195751Z
LAST-MODIFIED:20250603T203010Z
UID:10000166-1647993600-1648252799@receivablesinfo.com
SUMMARY:National Equipment Finance Association (NEFA) 2022 Finance Summit
DESCRIPTION:The National Equipment Finance Association (NEFA) is a national trade association comprised of professionals serving the equipment leasing and finance industry \nVisit Event Page
URL:https://receivablesinfo.com/event/national-equipment-finance-association-nefa-2022-finance-summit/
LOCATION:Newport Beach Marriott Hotel & Spa\, 900 Newport Center Dr\, Newport Beach\, CA 92660\, United States\, Newport\, CA\, 92660\, United States
CATEGORIES:Live Event
ATTACH;FMTTYPE=image/jpeg:https://receivablesinfo.com/wp-content/uploads/2021/10/National-Equipment-Finance-Association-NEFA-2022-Finance-Summit-1.jpg
END:VEVENT
BEGIN:VEVENT
DTSTART;TZID=America/New_York:20220322T000000
DTEND;TZID=America/New_York:20220323T235959
DTSTAMP:20260421T133806
CREATED:20220204T162903Z
LAST-MODIFIED:20250604T143213Z
UID:10000206-1647907200-1648079999@receivablesinfo.com
SUMMARY:Digital Customer Experience Summit
DESCRIPTION:“You’ll learn what customers really want from digital interactions\, how to empower agents to converse in the digital world\, how to recalibrate metrics and workflows for the new engagement landscape\, and how to ultimately create a seamless\, memorable experience at each and every touch point.” \nVisit Event Page
URL:https://receivablesinfo.com/event/digital-customer-experience-summit/
LOCATION:Webinar
CATEGORIES:Virtual Event
ATTACH;FMTTYPE=image/jpeg:https://receivablesinfo.com/wp-content/uploads/2022/02/Digital-Customer-Experience-Summit.jpg
END:VEVENT
BEGIN:VEVENT
DTSTART;TZID=America/New_York:20220317T000000
DTEND;TZID=America/New_York:20220318T235959
DTSTAMP:20260421T133806
CREATED:20211028T200524Z
LAST-MODIFIED:20250603T202938Z
UID:10000165-1647475200-1647647999@receivablesinfo.com
SUMMARY:National Association of Subrogation Professionals (NASP) 2022 Spring Conference
DESCRIPTION:
URL:https://receivablesinfo.com/event/national-association-of-subrogation-professionals-nasp-2022-spring-conference/
LOCATION:J. W. Marriott\, 400 S Collier Blvd\, Marco Island\, FL 34145\, United States\, Marco Island\, FL\, 34145\, United States
END:VEVENT
BEGIN:VEVENT
DTSTART;TZID=America/New_York:20220316T000000
DTEND;TZID=America/New_York:20220318T235959
DTSTAMP:20260421T133806
CREATED:20220209T174942Z
LAST-MODIFIED:20250604T143354Z
UID:10000208-1647388800-1647647999@receivablesinfo.com
SUMMARY:HFMA 2022 Revenue Cycle Conference
DESCRIPTION:“The U.S. has a long way to go to balance the scale between health care costs and outcomes. Join us to explore the role of revenue cycle in advancing the Cost Effectiveness of Health at the Revenue Cycle Conference 2022 in New Orleans on March 16-18.” \nVisit Event Page
URL:https://receivablesinfo.com/event/hfma-2022-revenue-cycle-conference/
LOCATION:Hilton New Orleans Riverside\, Two Poydras St\, New Orleans\, LA 70130\, United States\, New Orleans\, LA\, 70130\, United States
CATEGORIES:Live Event
ATTACH;FMTTYPE=image/jpeg:https://receivablesinfo.com/wp-content/uploads/2022/02/HFMA-2022-Revenue-Cycle-Conference.jpg
END:VEVENT
BEGIN:VEVENT
DTSTART;TZID=America/New_York:20220316T000000
DTEND;TZID=America/New_York:20220318T235959
DTSTAMP:20260421T133806
CREATED:20211023T191109Z
LAST-MODIFIED:20250603T195906Z
UID:10000153-1647388800-1647647999@receivablesinfo.com
SUMMARY:IGNITE
DESCRIPTION:Visit Event Page
URL:https://receivablesinfo.com/event/ignite/
LOCATION:Caesar’s Palace\, 3570 S Las Vegas Blvd\, Las Vegas\, NV 89109\, United States\, Las Vegas\, NV\, 3570\, United States
CATEGORIES:Live Event
ATTACH;FMTTYPE=image/jpeg:https://receivablesinfo.com/wp-content/uploads/2021/09/RI-2021.10-FeaturedEventImage-AS-241166902-1.jpg
END:VEVENT
BEGIN:VEVENT
DTSTART;TZID=America/New_York:20220315T000000
DTEND;TZID=America/New_York:20220316T235959
DTSTAMP:20260421T133806
CREATED:20220204T160111Z
LAST-MODIFIED:20250604T120424Z
UID:10000178-1647302400-1647475199@receivablesinfo.com
SUMMARY:ACA International LevelUP Leadership Experience
DESCRIPTION:The Level Up Leadership Experience is designed to immerse up and coming credit and collection professionals in core leadership skills.\nProfessional growth in this industry tends to come from within the organization. This means that the individuals in management roles inside your organization have the desired background and work experience but may lack the formal training in leadership skills needed to effectively lead the business\, create efficiencies\, and engage the employees to deliver best results. \nVisit Event Page
URL:https://receivablesinfo.com/event/aca-international-levelup-leadership-experience/
LOCATION:Caesars Palace\, Las Vegas\, NV\, United States
CATEGORIES:Live Event
ATTACH;FMTTYPE=image/jpeg:https://receivablesinfo.com/wp-content/uploads/2022/02/ACA-International-LevelUP-Leadership-Experience.jpg
END:VEVENT
BEGIN:VEVENT
DTSTART;TZID=America/New_York:20220307T000000
DTEND;TZID=America/New_York:20220310T235959
DTSTAMP:20260421T133806
CREATED:20211123T192025Z
LAST-MODIFIED:20250603T203241Z
UID:10000169-1646611200-1646956799@receivablesinfo.com
SUMMARY:2022 Vehicle Finance Conference & Expo
DESCRIPTION:“The 2022 Vehicle Finance Conference & Expo is the premier educational and networking opportunity for the vehicle finance industry. \nExplore the evolving landscape of vehicle finance – from global to local – and learn what to expect in the coming months.\nInteract with our keynote speakers\, panelists\, industry colleagues and policymakers.\nParticipate in thought-provoking breakouts and roundtable discussions.\nNetwork with other attendees and share best practices that increase your bottom line and enhance your customer relations.” \nVisit Event Page
URL:https://receivablesinfo.com/event/2022-vehicle-finance-conference-expo/
LOCATION:The Bellagio\, 3600 S Las Vegas Blvd\, Las Vegas\, NV 89109\, United States\, Las Vegas\, NV\, 89109\, United States
CATEGORIES:Live Event
ATTACH;FMTTYPE=image/jpeg:https://receivablesinfo.com/wp-content/uploads/2021/10/2022-Vehicle-Finance-Conference-Expo.jpg
END:VEVENT
BEGIN:VEVENT
DTSTART;TZID=America/New_York:20220224T000000
DTEND;TZID=America/New_York:20220225T235959
DTSTAMP:20260421T133806
CREATED:20220204T155336Z
LAST-MODIFIED:20250604T120157Z
UID:10000177-1645660800-1645833599@receivablesinfo.com
SUMMARY:Building High Performing Teams
DESCRIPTION:This seminar will cover topics including strategies to successfully lead a team\, work with different personalities and generations\, hold an efficient team meeting\, build morale\, and more. \nVisit Event Page
URL:https://receivablesinfo.com/event/building-high-performing-teams/
LOCATION:Webinar
CATEGORIES:Virtual Event
ATTACH;FMTTYPE=image/jpeg:https://receivablesinfo.com/wp-content/uploads/2022/02/Building-High-Performing-Teams.jpg
END:VEVENT
BEGIN:VEVENT
DTSTART;TZID=America/New_York:20220222T000000
DTEND;TZID=America/New_York:20220225T235959
DTSTAMP:20260421T133806
CREATED:20211208T160215Z
LAST-MODIFIED:20250604T115347Z
UID:10000174-1645488000-1645833599@receivablesinfo.com
SUMMARY:2022 Committee of 100 Meeting
DESCRIPTION:Secure a competitive edge for your company\, drive breakthrough innovation\, and maximize team productivity. Through dynamic discussions at this invitation-only event\, led by ACA President Kevin Baich\, you’ll learn from other top leaders in the industry to help you and your organization master complex challenges and capitalize on emerging opportunities. \nVisit Event Page
URL:https://receivablesinfo.com/event/2022-committee-of-100-meeting/
CATEGORIES:Live Event
ATTACH;FMTTYPE=image/jpeg:https://receivablesinfo.com/wp-content/uploads/2021/12/2022-Committee-of-100-Meeting.jpg
END:VEVENT
BEGIN:VEVENT
DTSTART;TZID=America/Chicago:20220217T140000
DTEND;TZID=America/Chicago:20220217T150000
DTSTAMP:20260421T133806
CREATED:20220204T121219Z
LAST-MODIFIED:20250604T115855Z
UID:10000176-1645106400-1645110000@receivablesinfo.com
SUMMARY:Hot Topic Seminar: State Specifics for Collectors
DESCRIPTION:“Nick Prola along with Stephanie Jackman will provide an overview of the top #10 states collectors need to be aware of and why compliance is crucial to the success of the agency.” \nVisit Event Page
URL:https://receivablesinfo.com/event/hot-topic-seminar-state-specifics-for-collectors/
LOCATION:Webinar
CATEGORIES:Virtual Event
ATTACH;FMTTYPE=image/jpeg:https://receivablesinfo.com/wp-content/uploads/2022/02/Hot-Topic-Seminar-State-Specifics-for-Collectors.jpg.jpg
END:VEVENT
BEGIN:VEVENT
DTSTART;TZID=America/Chicago:20220215T140000
DTEND;TZID=America/Chicago:20220215T150000
DTSTAMP:20260421T133806
CREATED:20220204T120414Z
LAST-MODIFIED:20250604T115612Z
UID:10000175-1644933600-1644937200@receivablesinfo.com
SUMMARY:Hot Topic Seminar: Disgruntled Employees - Turn the Frown Upside Down
DESCRIPTION:“Disgruntled employees become less productive than they could be. They expose the company to unnecessary risks and they can cause inflated turnover costs. This session will help you identify disgruntled employees and provide you with tips to consider to turn their frown upside down.” \nVisit Event Page
URL:https://receivablesinfo.com/event/hot-topic-seminar-disgruntled-employees-turn-the-frown-upside-down/
LOCATION:Webinar
CATEGORIES:Virtual Event
ATTACH;FMTTYPE=image/jpeg:https://receivablesinfo.com/wp-content/uploads/2022/02/Hot-Topic-Seminar-Disgruntled-Employees-Turn-the-Frown-Upside-Down.jpg
END:VEVENT
BEGIN:VEVENT
DTSTART;TZID=America/New_York:20220207T000000
DTEND;TZID=America/New_York:20220210T235959
DTSTAMP:20260421T133806
CREATED:20211021T233805Z
LAST-MODIFIED:20250603T200108Z
UID:10000154-1644192000-1644537599@receivablesinfo.com
SUMMARY:RMAI Annual Conference 2022
DESCRIPTION:This is the premier event for all verticals of the receivables management industry including debt buyers\, originating creditors\, collection agencies\, law firms\, brokers and affiliates. Attendees can expect timely industry education\, in-person networking and business development opportunities. \nVisit Event Page
URL:https://receivablesinfo.com/event/rmai-annual-conference-2022/
LOCATION:ARIA Resort & Casino\, 3730 S Las Vegas Blvd\, Las Vegas\, NV 89158\, United States\, NV\, 89158\, United States
CATEGORIES:Live Event
ATTACH;FMTTYPE=image/jpeg:https://receivablesinfo.com/wp-content/uploads/2021/09/RI-2021.10-FeaturedEventImage-AS-270399362.jpg
END:VEVENT
BEGIN:VEVENT
DTSTART;TZID=America/New_York:20220207T000000
DTEND;TZID=America/New_York:20220208T235959
DTSTAMP:20260421T133806
CREATED:20211208T160609Z
LAST-MODIFIED:20250604T142728Z
UID:10000205-1644192000-1644364799@receivablesinfo.com
SUMMARY:Nexus Dealmakers Summit
DESCRIPTION:Nexus is a high-end partnering event for fintech decision makers to pitch\, partner and get deals done. The two-day program is packed with high-quality\, double-opt-in\, one-on-one meetings and fun networking events. \nVisit Event Page
URL:https://receivablesinfo.com/event/nexus-dealmakers-summit/
LOCATION:Loews Miami Beach Hotel\, 1601 Collins Ave\, Miami Beach\, FL 33139\, United States\, Miami\, FL\, 33139\, United States
CATEGORIES:Live Event
ATTACH;FMTTYPE=image/jpeg:https://receivablesinfo.com/wp-content/uploads/2021/12/Nexus-Dealmakers-Summit.jpg
END:VEVENT
BEGIN:VEVENT
DTSTART;TZID=America/New_York:20220126T000000
DTEND;TZID=America/New_York:20220128T235959
DTSTAMP:20260421T133806
CREATED:20211123T192216Z
LAST-MODIFIED:20250603T201620Z
UID:10000163-1643155200-1643414399@receivablesinfo.com
SUMMARY:MEGA Healthcare Conference - Wisconsin
DESCRIPTION:The Mega Conference is a biennial event planned and organized by a group of volunteers representing four presenting organizations – AAHAM Wisconsin Chapter\, HFMA Wisconsin Chapter\, HIPAA COW and WMGMA. \nVisit Event Page
URL:https://receivablesinfo.com/event/mega-healthcare-conference-wisconsin/
LOCATION:Kalahari Resort & Conference Center\, 1305 Kalahari Dr\, Wisconsin Dells\, WI 53965\, United States\, Wisconsin Dells\, WI\, 53965\, United States
CATEGORIES:Live Event
ATTACH;FMTTYPE=image/jpeg:https://receivablesinfo.com/wp-content/uploads/2021/10/MEGA-Healthcare-Conference-Wisconsin.jpg
END:VEVENT
BEGIN:VEVENT
DTSTART;TZID=America/New_York:20211213T000000
DTEND;TZID=America/New_York:20211216T235959
DTSTAMP:20260421T133806
CREATED:20211019T183241Z
LAST-MODIFIED:20250603T200759Z
UID:10000158-1639353600-1639699199@receivablesinfo.com
SUMMARY:Customer Contact Week
DESCRIPTION:“CCW is the #1 customer contact event to attend in 2021 and the only event this year featuring nearly 200 industry exhibitors\, an incredible speaker line up\, actionable and impactful session content\, and unmatched benchmarking and team building opportunities. The program also includes the CCWomen Summit\, Diversity & Inclusion Summit\, a Financial Services Intensive\, and focuses on training\, hiring and retaining top talent.” \nVisit Event Page
URL:https://receivablesinfo.com/event/customer-contact-week/
LOCATION:Caesars Forum\, 3911 Koval Ln\, Las Vegas\, NV 89109\, United States\, Las Vegas\, NV\, 89109\, United States
CATEGORIES:Live Event
ATTACH;FMTTYPE=image/jpeg:https://receivablesinfo.com/wp-content/uploads/2021/10/Customer-Contact-Week.jpg
END:VEVENT
BEGIN:VEVENT
DTSTART;TZID=America/New_York:20211208T000000
DTEND;TZID=America/New_York:20211210T235959
DTSTAMP:20260421T133806
CREATED:20211018T232601Z
LAST-MODIFIED:20250603T195519Z
UID:10000152-1638921600-1639180799@receivablesinfo.com
SUMMARY:Marketplace Lending & Alternative Financing Summit 2021
DESCRIPTION:Educational forum for investors\, issuers\, platforms\, underwriters\, banks rating agencies\, lawyers\, service providers\, accountant\, and other related industry professionals. Learn and network with industry leaders about the latest ways to maximize returns and mitigate risk in this growing area of marketplace lending. Explore the current landscape and what’s to come and hear about rating agency methodology\, legal\, tax and structural considerations. \nVisit Event Page
URL:https://receivablesinfo.com/event/marketplace-lending-alternative-financing-summit-2021/
LOCATION:Waldorf Astoria Monarch Beach
CATEGORIES:Live Event
ATTACH;FMTTYPE=image/jpeg:https://receivablesinfo.com/wp-content/uploads/2021/09/RI-2021.10-FeaturedEventImage-AS-177431240.jpg
END:VEVENT
BEGIN:VEVENT
DTSTART;TZID=America/New_York:20211108T000000
DTEND;TZID=America/New_York:20211110T235959
DTSTAMP:20260421T133806
CREATED:20211010T050146Z
LAST-MODIFIED:20250603T195418Z
UID:10000151-1636329600-1636588799@receivablesinfo.com
SUMMARY:NASP 2021 Annual Conference
DESCRIPTION:Enjoy all the elements of the in-person conference to the greatest extent possible– Networking\, online learning\, virtual socials\, solutions providers “speed dating.”  \nVisit Event Page
URL:https://receivablesinfo.com/event/nasp-2021-annual-conference/
LOCATION:Virtual
CATEGORIES:Virtual Event
ATTACH;FMTTYPE=image/jpeg:https://receivablesinfo.com/wp-content/uploads/2021/09/RI-2021.10-FeaturedEventImage-AS-221230893.jpg
END:VEVENT
END:VCALENDAR