BEGIN:VCALENDAR
VERSION:2.0
PRODID:-//Receivables Info - ECPv6.15.20//NONSGML v1.0//EN
CALSCALE:GREGORIAN
METHOD:PUBLISH
X-ORIGINAL-URL:https://receivablesinfo.com
X-WR-CALDESC:Events for Receivables Info
REFRESH-INTERVAL;VALUE=DURATION:PT1H
X-Robots-Tag:noindex
X-PUBLISHED-TTL:PT1H
BEGIN:VTIMEZONE
TZID:America/New_York
BEGIN:DAYLIGHT
TZOFFSETFROM:-0500
TZOFFSETTO:-0400
TZNAME:EDT
DTSTART:20210314T070000
END:DAYLIGHT
BEGIN:STANDARD
TZOFFSETFROM:-0400
TZOFFSETTO:-0500
TZNAME:EST
DTSTART:20211107T060000
END:STANDARD
BEGIN:DAYLIGHT
TZOFFSETFROM:-0500
TZOFFSETTO:-0400
TZNAME:EDT
DTSTART:20220313T070000
END:DAYLIGHT
BEGIN:STANDARD
TZOFFSETFROM:-0400
TZOFFSETTO:-0500
TZNAME:EST
DTSTART:20221106T060000
END:STANDARD
BEGIN:DAYLIGHT
TZOFFSETFROM:-0500
TZOFFSETTO:-0400
TZNAME:EDT
DTSTART:20230312T070000
END:DAYLIGHT
BEGIN:STANDARD
TZOFFSETFROM:-0400
TZOFFSETTO:-0500
TZNAME:EST
DTSTART:20231105T060000
END:STANDARD
END:VTIMEZONE
BEGIN:VEVENT
DTSTART;TZID=America/New_York:20220207T000000
DTEND;TZID=America/New_York:20220210T235959
DTSTAMP:20260419T180847
CREATED:20211021T233805Z
LAST-MODIFIED:20250603T200108Z
UID:10000154-1644192000-1644537599@receivablesinfo.com
SUMMARY:RMAI Annual Conference 2022
DESCRIPTION:This is the premier event for all verticals of the receivables management industry including debt buyers\, originating creditors\, collection agencies\, law firms\, brokers and affiliates. Attendees can expect timely industry education\, in-person networking and business development opportunities. \nVisit Event Page
URL:https://receivablesinfo.com/event/rmai-annual-conference-2022/
LOCATION:ARIA Resort & Casino\, 3730 S Las Vegas Blvd\, Las Vegas\, NV 89158\, United States\, NV\, 89158\, United States
CATEGORIES:Live Event
ATTACH;FMTTYPE=image/jpeg:https://receivablesinfo.com/wp-content/uploads/2021/09/RI-2021.10-FeaturedEventImage-AS-270399362.jpg
END:VEVENT
END:VCALENDAR